BEGIN:VCALENDAR
VERSION:2.0
PRODID:-//ChamberMaster//Event Calendar 2.0//EN
METHOD:PUBLISH
X-PUBLISHED-TTL:P3D
REFRESH-INTERVAL:P3D
CALSCALE:GREGORIAN
BEGIN:VEVENT
DTSTART:20150614T183000Z
DTEND:20150614T220000Z
X-MICROSOFT-CDO-ALLDAYEVENT:FALSE
SUMMARY:TELUS Walk to Cure Diabetes
DESCRIPTION:Join the Fraser Valley community and raise funds for JDRF (Juvenile Diabetes Research Foundation) at our TELUS Walk to Cure Diabetes. More than 1\,000 people made up of individuals\, family and corporate teams will enjoy an afternoon of fun activities\, entertainment ranging from kids? activities to rock climbing and other great team building sports! It will be fun\, awe-inspiring and you won't want to miss our new location at Mill Lake Park\, Abbotsford! To register\, go to www.jdrf.ca/walk.
X-ALT-DESC;FMTTYPE=text/html:Join the Fraser Valley community and raise funds for JDRF (Juvenile Diabetes Research Foundation) at our TELUS Walk to Cure Diabetes. More than 1\,000 people made up of individuals\, family and corporate teams will enjoy an afternoon of fun activities\, entertainment ranging from kids? activities to rock climbing and other great team building sports! It will be fun\, awe-inspiring and you won&#39\;t want to miss our new location at Mill Lake Park\, Abbotsford! To register\, go to www.jdrf.ca/walk.
LOCATION:Mill Lake Park\, Abbotsford
UID:e.749.3339
SEQUENCE:3
DTSTAMP:20260423T151101Z
URL:https://business.swrbot.com/events/details/telus-walk-to-cure-diabetes-06-14-2015-3339
END:VEVENT

END:VCALENDAR
