BEGIN:VCALENDAR
VERSION:2.0
PRODID:-//ChamberMaster//Event Calendar 2.0//EN
METHOD:PUBLISH
X-PUBLISHED-TTL:P3D
REFRESH-INTERVAL:P3D
CALSCALE:GREGORIAN
BEGIN:VEVENT
DTSTART;VALUE=DATE:20170612
DTEND;VALUE=DATE:20170614
TRANSP:TRANSPARENT
X-MICROSOFT-CDO-ALLDAYEVENT:TRUE
SUMMARY:The 2017 BCAMI Symposium
DESCRIPTION:Network\, learn\, and be on the cutting edge of ADR! The 2017 Symposium will bring together a progressive\, dynamic group of professionals including arbitrators\, mediators\, lawyers\, in-house counsels\, HR professionals\, corporate and other users of ADR services. The eclectic line-up of speakers presenting at the 2017 BCAMI Symposium will explore a wide variety of topics related to the challenges\, opportunities\, new developments and the rapidly expanding role of ADR in the 21st century.
X-ALT-DESC;FMTTYPE=text/html:Network\, learn\, and be on the cutting edge of ADR! The 2017 Symposium will bring together a progressive\, dynamic group of professionals including arbitrators\, mediators\, lawyers\, in-house counsels\, HR professionals\, corporate and other users of ADR services. The eclectic line-up of speakers presenting at the 2017 BCAMI Symposium will explore a wide variety of topics related to the challenges\, opportunities\, new developments and the rapidly expanding role of ADR in the 21st century.
LOCATION:Morris J Wosk Centre for Dialogue Address at Simon Fraser University 580 West Hastings Street (enter via Seymour Street courtyard entrance) Vancouver\, British Columbia V6B 1L6
UID:e.749.5335
SEQUENCE:3
DTSTAMP:20260422T000922Z
URL:https://business.swrbot.com/events/details/the-2017-bcami-symposium-06-12-2017-5335
END:VEVENT

END:VCALENDAR
