BEGIN:VCALENDAR
VERSION:2.0
PRODID:-//ChamberMaster//Event Calendar 2.0//EN
METHOD:PUBLISH
X-PUBLISHED-TTL:P3D
REFRESH-INTERVAL:P3D
CALSCALE:GREGORIAN
BEGIN:VEVENT
DTSTART:20140703T180000Z
DTEND:20140703T220000Z
X-MICROSOFT-CDO-ALLDAYEVENT:FALSE
SUMMARY:The BCBusiness Top 100 Event
DESCRIPTION:This July\, join Peter Legge as he continues his revealing and insightful interview series with British Columbia's business legend\, Francesco Aquilini.\n\nAquilini's life has the makings of an epic sports story...with all the drama of a sudden-death overtime. His career is peppered with aggressive boardroom tangles\, breakaways and big hits where the gloves have come off more than once. But it's always been a team effort\, with his dad and brothers playing key roles to set up the big deals.\n\nFrom condos to berries to pro hockey\, learn how Francesco Aquilini has built a West Coast empire.
X-ALT-DESC;FMTTYPE=text/html:<p>This July\, join Peter Legge as he continues his revealing and insightful interview series with British Columbia&#39\;s business legend\, Francesco Aquilini.</p>\n\n<p>Aquilini&#39\;s life has the makings of an epic sports story...with all the drama of a sudden-death overtime. His career is peppered with aggressive boardroom tangles\, breakaways and big hits where the gloves have come off more than once. But it&#39\;s always been a team effort\, with his dad and brothers playing key roles to set up the big deals.</p>\n\n<p>From condos to berries to pro hockey\, learn how Francesco Aquilini has built a West Coast empire.</p>\n
LOCATION:The Fairmont Hotel Vancouver 900 West Georgia Street Vancouver\, BC V6C 2W6
UID:e.749.2618
SEQUENCE:3
DTSTAMP:20260425T201026Z
URL:https://business.swrbot.com/events/details/the-bcbusiness-top-100-event-07-03-2014-2618
END:VEVENT

END:VCALENDAR
