BEGIN:VCALENDAR
VERSION:2.0
PRODID:-//ChamberMaster//Event Calendar 2.0//EN
METHOD:PUBLISH
X-PUBLISHED-TTL:P3D
REFRESH-INTERVAL:P3D
CALSCALE:GREGORIAN
BEGIN:VEVENT
DTSTART:20140529T210000Z
DTEND:20140530T010000Z
X-MICROSOFT-CDO-ALLDAYEVENT:FALSE
SUMMARY:The Business of Craft Beer
DESCRIPTION:Kick off Vancouver Craft Beer Week by hearing from and networking with the best in B.C.'s booming local craft beer industry. Our keynote speaker is Jamie Floyd of Ninkasi Brewing\, followed by panels of local craft beer experts and lots and lots of tasting breaks. Included in your ticket: beer pairings\, delectible food station and (of course) beer.
X-ALT-DESC;FMTTYPE=text/html:Kick off Vancouver Craft Beer Week by hearing from and networking with the best in B.C.&#39\;s booming local craft beer industry. Our keynote speaker is Jamie Floyd of Ninkasi Brewing\, followed by panels of local craft beer experts and lots and lots of tasting breaks. Included in your ticket: beer pairings\, delectible food station and (of course) beer.
LOCATION:The Imperial 319 Main Street Vancouver\, BC V6A 2S7 Canada
UID:e.749.2624
SEQUENCE:3
DTSTAMP:20260425T213147Z
URL:https://business.swrbot.com/events/details/the-business-of-craft-beer-05-29-2014-2624
END:VEVENT

END:VCALENDAR
