BEGIN:VCALENDAR
VERSION:2.0
PRODID:-//ChamberMaster//Event Calendar 2.0//EN
METHOD:PUBLISH
X-PUBLISHED-TTL:P3D
REFRESH-INTERVAL:P3D
CALSCALE:GREGORIAN
BEGIN:VEVENT
DTSTART:20140523T013000Z
DTEND:20140523T033000Z
X-MICROSOFT-CDO-ALLDAYEVENT:FALSE
SUMMARY:The Importance of Wills
DESCRIPTION:Ocean Pointe Business Centre\n\nPresents\n\nCHRIS MEYER\, Partner of Watson Goepel\, LLP\n\n\n\nTOPIC: THE IMPORTANCE OF WILLS\n\nDecisions on: Estate Planning\, Powers of Attorney\, Trusts and Probates\n\n \n\n    \n\nYou will learn:\n\n\n\n  to move assets to the next generation in a cost and tax effective manner\n\n  to create Inter Vivos and Testamentary Trusts\n\n  to ensure special needs children are cared for\n\n  to transfer control of businesses between generations\n\n  to ensure your favourite charity receives the appropriate amount\n\n\n\nJOIN US!!\n\n\n\nDate:         May 22\, 2014\n\nTime:         6:30 pm 8:30 pm\n\nWhere:      Ocean Pointe Business Centre\n\n                   Suite 404\, 1688 152nd Street Surrey\, BC\n\n\n\nFee:          This is a FREE Event\n\n\n\nTo register:    Call 604.542.2445 or Email: slaurio@opbc.ca
X-ALT-DESC;FMTTYPE=text/html:<div style="text-align: center">Ocean Pointe Business Centre<br />\nPresents<br />\nCHRIS MEYER\, Partner of Watson Goepel\, LLP<br />\n<br />\n<strong>TOPIC: THE IMPORTANCE OF WILLS</strong><br />\nDecisions on: Estate Planning\, Powers of Attorney\, Trusts and Probates<br />\n&nbsp\;</div>\n\n<div>&nbsp\;&nbsp\;&nbsp\;&nbsp\;<br />\n<strong>You will learn:</strong><br />\n<br />\n&bull\; to move assets to the next generation in a cost and tax effective manner<br />\n&bull\; to create Inter Vivos and Testamentary Trusts<br />\n&bull\; to ensure special needs children are cared for<br />\n&bull\; to transfer control of businesses between generations<br />\n&bull\; to ensure your favourite charity receives the appropriate amount<br />\n<br />\n<strong>JOIN US!!</strong><br />\n<br />\nDate:&nbsp\;&nbsp\;&nbsp\;&nbsp\;&nbsp\;&nbsp\;&nbsp\;&nbsp\; May 22\, 2014<br />\nTime:&nbsp\;&nbsp\;&nbsp\;&nbsp\;&nbsp\;&nbsp\;&nbsp\;&nbsp\;&nbsp\;6:30 pm&mdash\;8:30 pm<br />\nWhere:&nbsp\;&nbsp\;&nbsp\;&nbsp\;&nbsp\;&nbsp\;Ocean Pointe Business Centre<br />\n&nbsp\;&nbsp\;&nbsp\;&nbsp\;&nbsp\;&nbsp\;&nbsp\;&nbsp\;&nbsp\;&nbsp\;&nbsp\;&nbsp\;&nbsp\;&nbsp\;&nbsp\;&nbsp\;&nbsp\;&nbsp\;&nbsp\;Suite&nbsp\;404\, 1688 152nd Street Surrey\, BC<br />\n<br />\nFee:&nbsp\;&nbsp\;&nbsp\;&nbsp\;&nbsp\;&nbsp\;&nbsp\;&nbsp\;&nbsp\; This is a <strong><span style="background-color: #ffff00">FREE </span></strong>Event<br />\n<br />\nTo register:&nbsp\;&nbsp\;&nbsp\; Call 604.542.2445 or Email: <a href="mailto:slaurio@opbc.ca">slaurio@opbc.ca</a><br />\n&nbsp\;&nbsp\;&nbsp\;&nbsp\;&nbsp\;&nbsp\;&nbsp\;&nbsp\;&nbsp\;&nbsp\;&nbsp\;&nbsp\;&nbsp\;&nbsp\;&nbsp\;&nbsp\;&nbsp\;&nbsp\;&nbsp\;&nbsp\;&nbsp\;&nbsp\;&nbsp\;&nbsp\;&nbsp\;&nbsp\;&nbsp\;</div>\n
LOCATION:Ocean Pointe Business Centre Suite 404\, 1688 152 St. Surrey BC
UID:e.749.2360
SEQUENCE:3
DTSTAMP:20260425T213030Z
URL:https://business.swrbot.com/events/details/the-importance-of-wills-05-22-2014-2360
END:VEVENT

END:VCALENDAR
