BEGIN:VCALENDAR
VERSION:2.0
PRODID:-//ChamberMaster//Event Calendar 2.0//EN
METHOD:PUBLISH
X-PUBLISHED-TTL:P3D
REFRESH-INTERVAL:P3D
CALSCALE:GREGORIAN
BEGIN:VEVENT
DTSTART:20140320T230000Z
DTEND:20140321T000000Z
X-MICROSOFT-CDO-ALLDAYEVENT:FALSE
SUMMARY:The ins and outs of Facebook advertising. | Think60
DESCRIPTION:Are you using Facebook to build brand awareness for your products? Or rely on it to attract great new hires? If so\, then Facebook Advertising is the next logical step in generating even more exposure for your business. Small budgets can go a long way with Facebook because of it's super powerful demographics filtering which enables you to expose your brand to exactly the right buyers\, from age and location\, to hobbies...like wine!\n\n\n\nABOUT OUR GUEST SPEAKER\, LORI RATZLAFF\n\nLorri specializes in social media marketing\; providing services and training in everything from Facebook\, YouTube\, Twitter\, Google+\, Blogging\, Newsletters and Email Marketing. Additionally\, she provides video marketing services with creating\, editing and distributing videos for clients.\n\n\n\nSeats are limited so reserve your free spot today.
X-ALT-DESC;FMTTYPE=text/html:Are you using Facebook to build brand awareness for your products? Or rely on it to attract great new hires? If so\, then Facebook Advertising is the next logical step in generating even more exposure for your business. Small budgets can go a long way with Facebook because of it&#39\;s super powerful demographics filtering which enables you to expose your brand to exactly the right buyers\, from age and location\, to hobbies...like wine!<br />\n<br />\nABOUT OUR GUEST SPEAKER\, LORI RATZLAFF<br />\nLorri specializes in social media marketing\; providing services and training in everything from Facebook\, YouTube\, Twitter\, Google+\, Blogging\, Newsletters and Email Marketing. Additionally\, she provides video marketing services with creating\, editing and distributing videos for clients.<br />\n<br />\nSeats are limited so reserve your free spot today.
LOCATION:Studiothink: 10-19300 Langley Bypass\, Surrey\, BC V3S 7R2
UID:e.749.2527
SEQUENCE:3
DTSTAMP:20260425T235626Z
URL:https://business.swrbot.com/events/details/the-ins-and-outs-of-facebook-advertising-think60-03-20-2014-2527
END:VEVENT

END:VCALENDAR
