BEGIN:VCALENDAR
VERSION:2.0
PRODID:-//ChamberMaster//Event Calendar 2.0//EN
METHOD:PUBLISH
X-PUBLISHED-TTL:P3D
REFRESH-INTERVAL:P3D
CALSCALE:GREGORIAN
BEGIN:VEVENT
DTSTART:20141119T013000Z
DTEND:20141119T033000Z
X-MICROSOFT-CDO-ALLDAYEVENT:FALSE
SUMMARY:THE MAIN EVENT - An introduction to the world of Trade!
DESCRIPTION:New Market is a community of businesses that support each other by trading products and services with each other.\n\n\n\nJoin us for a relaxed and informative evening as we unpack the many benefits of Trade. Network with other North Surrey based business owners\, enjoy some great food\, and allow us to learn more about your business and its needs.\n\n\n\nAs a Trade Network\, we help you:\n\n\n\nINCREASE YOUR SALES!\n\nREDUCE YOUR COSTS!\n\nGENERATE MORE PROFIT!\n\n\n\nAnd our service is 100% commission based so you have nothing to loose and a whole lot to gain!\n\n\n\nRSVP at themainevent@newmarkettrade.ca\n\n\n\nWe look forward to seeing you there!
X-ALT-DESC;FMTTYPE=text/html:New Market is a community of businesses that support each other by trading products and services with each other.<br />\n<br />\nJoin us for a relaxed and informative evening as we unpack the many benefits of Trade. Network with other North Surrey based business owners\, enjoy some great food\, and allow us to learn more about your business and its needs.<br />\n<br />\nAs a Trade Network\, we help you:<br />\n<br />\nINCREASE YOUR SALES!<br />\nREDUCE YOUR COSTS!<br />\nGENERATE MORE PROFIT!<br />\n<br />\nAnd our service is 100% commission based so you have nothing to loose and a whole lot to gain!<br />\n<br />\nRSVP at themainevent@newmarkettrade.ca<br />\n<br />\nWe look forward to seeing you there!
LOCATION:The new Surrey City Hall\, 2E Community Room B\, 13450 104th Ave\, Surrey\, BC.
UID:e.749.2822
SEQUENCE:3
DTSTAMP:20260425T140535Z
URL:https://business.swrbot.com/events/details/the-main-event-an-introduction-to-the-world-of-trade-11-18-2014-2822
END:VEVENT

END:VCALENDAR
