BEGIN:VCALENDAR
VERSION:2.0
PRODID:-//ChamberMaster//Event Calendar 2.0//EN
METHOD:PUBLISH
X-PUBLISHED-TTL:P3D
REFRESH-INTERVAL:P3D
CALSCALE:GREGORIAN
BEGIN:VEVENT
DTSTART:20171126T020000Z
DTEND:20171126T060000Z
X-MICROSOFT-CDO-ALLDAYEVENT:FALSE
SUMMARY:The Shell Busey 75th Birthday Roast & Toast Fundraiser for Surrey Hospice
DESCRIPTION:The Surrey Hospice Society will be hosting a 75th Birthday Roast and Toast for home expert broadcaster\, Shell Busey\, on Saturday\, November 25th at the Mirage Banquet Hall in Surrey\, BC. The celebration will feature a good-natured roast of Shell\, a delicious dinner\, silent auction\, table raffles\, door prizes and a live band with room to dance. 100% of the proceeds benefit the Surrey Hospice Society\, so come for the fun and help raise money for a much-needed local charity! Tickets are $99.00 each or buy a table of 9 and get the tenth free. Buy your tickets today at SurreyHospice.com Or Call 604-584-7006 for group discounts\, sponsorship and donation enquiries.
X-ALT-DESC;FMTTYPE=text/html:The Surrey Hospice Society will be hosting a 75th Birthday Roast and Toast for home expert broadcaster\, Shell Busey\, on Saturday\, November 25th at the Mirage Banquet Hall in Surrey\, BC. The celebration will feature a good-natured roast of Shell\, a delicious dinner\, silent auction\, table raffles\, door prizes and a live band with room to dance. 100% of the proceeds benefit the Surrey Hospice Society\, so come for the fun and help raise money for a much-needed local charity! Tickets are $99.00 each or buy a table of 9 and get the tenth free. Buy your tickets today at SurreyHospice.com Or Call 604-584-7006 for group discounts\, sponsorship and donation enquiries.
LOCATION:Mirage Banquet Hall - 17767 64 Ave.\, Surrey\, BC
UID:e.749.5574
SEQUENCE:3
DTSTAMP:20260421T181036Z
URL:https://business.swrbot.com/events/details/the-shell-busey-75th-birthday-roast-toast-fundraiser-for-surrey-hospice-11-25-2017-5574
END:VEVENT

END:VCALENDAR
