BEGIN:VCALENDAR
VERSION:2.0
PRODID:-//ChamberMaster//Event Calendar 2.0//EN
METHOD:PUBLISH
X-PUBLISHED-TTL:P3D
REFRESH-INTERVAL:P3D
CALSCALE:GREGORIAN
BEGIN:VEVENT
DTSTART:20140117T000000Z
DTEND:20140117T010000Z
X-MICROSOFT-CDO-ALLDAYEVENT:FALSE
SUMMARY:Thinking about expanding outside Canada? Top things you need to know. | Think60
DESCRIPTION:Does part of your growth strategy include marketing to other countries? If you're thinking about it\, or already selling your products or services in other countries\, then you won't want to miss this insightful session. Grant Gilmour will answer key questions about operating and selling in other countries. Do you need to have a physical location? Do you need to set up a corporation? How much reporting will you have to do? At what point will you have to pay taxes? At this month's Think60 he will be reviewing requirements for expansion into US and European markets. \n\n\n\nABOUT OUR GUEST SPEAKER\, GRANT GILMOUR\, GILMOUR KNOTTS\n\nGrant Gilmour is owner of Langley based accounting firm\, Gilmour Knotts. He has been a Chartered Accountant since 1988\, opening his own practice in 1994. The firm has grown to 11 staff\, serving primarily corporate clients in manufacturing and distribution that sell products internationally. Grant has extensive experience and a special interest in international tax. With different regulations in every country\, and no single source of information\, Grant has taken on the responsibility of educating businesses to successfully and profitably expand into new markets.\n\n\n\nSeats are limited so reserve your free spot today.
X-ALT-DESC;FMTTYPE=text/html:Does part of your growth strategy include marketing to other countries? If you&#39\;re thinking about it\, or already selling your products or services in other countries\, then you won&#39\;t want to miss this insightful session. Grant Gilmour will answer key questions about operating and selling in other countries. Do you need to have a physical location? Do you need to set up a corporation? How much reporting will you have to do? At what point will you have to pay taxes? At this month&#39\;s Think60 he will be reviewing requirements for expansion into US and European markets.&nbsp\;<br />\n<br />\nABOUT OUR GUEST SPEAKER\, GRANT GILMOUR\, GILMOUR KNOTTS<br />\nGrant Gilmour is owner of Langley based accounting firm\, Gilmour Knotts. He has been a Chartered Accountant since 1988\, opening his own practice in 1994. The firm has grown to 11 staff\, serving primarily corporate clients in manufacturing and distribution that sell products internationally. Grant has extensive experience and a special interest in international tax. With different regulations in every country\, and no single source of information\, Grant has taken on the responsibility of educating businesses to successfully and profitably expand into new markets.<br />\n<br />\nSeats are limited so reserve your free spot today.
LOCATION:Studiothink: 10-19300 Langley Bypass\, Surrey\, BC V3S 7R2
UID:e.749.2525
SEQUENCE:3
DTSTAMP:20260426T021836Z
URL:https://business.swrbot.com/events/details/thinking-about-expanding-outside-canada-top-things-you-need-to-know-think60-01-16-2014-2525
END:VEVENT

END:VCALENDAR
