BEGIN:VCALENDAR
VERSION:2.0
PRODID:-//ChamberMaster//Event Calendar 2.0//EN
METHOD:PUBLISH
X-PUBLISHED-TTL:P3D
REFRESH-INTERVAL:P3D
CALSCALE:GREGORIAN
BEGIN:VEVENT
DTSTART:20101027T160000Z
DTEND:20101027T190000Z
X-MICROSOFT-CDO-ALLDAYEVENT:FALSE
SUMMARY:U.S. Customs Compliance Seminar
DESCRIPTION:Pacific Customs Brokers is offering an U.S. Customs Compliance Session to commercial importers\, professional importers\, non-resident importers\, shippers and to all new employees of the international trade industry. At this seminar\, you will gain knowledge of U.S. Customs regulations\, required documentation and accuracy of forms\, legal responsibilities of both the broker and the importer. By attending this session\, you will be better prepared when your shipments enter the United States thus minimizing possible delays and penalties. During the session\, a spokesperson from U.S. Customs and Border Protection will speak on current priority trade issues and upcoming customs changes. Customs will also address your questions.\n\n	 \n\n	Date\, Times and Location:\n\n	 \n\n	Pacific Customs Brokers - Seminar Room (101-17637 1st Avenue\, Surrey) \n\n	Wednesday\, October 27\, 2010\; 9am-12pm \n\n	 \n\n	Registration Information:\n\n	 \n\n	Seminar Fee: The cost per session is $95 CAD per person. (Breakfast included).\n\n	 \n\n	Register Online: www.pcb.ca/seminars\n\n	 \n\n	Contact Information:\n\n	 \n\n	Yvette Fox at Pacific Customs Brokers\, 604.538.1566\; Fax: 604.531.3120\; seminars@pcb.ca\n\n	 \n\n	Registration Deadline: Friday\, October 22\, 2010
X-ALT-DESC;FMTTYPE=text/html:<div>\n	Pacific Customs Brokers is offering an U.S. Customs Compliance Session to commercial importers\, professional importers\, non-resident importers\, shippers and to all new employees of the international trade industry. At this seminar\, you will gain knowledge of U.S. Customs regulations\, required documentation and accuracy of forms\, legal responsibilities of both the broker and the importer. By attending this session\, you will be better prepared when your shipments enter the United States thus minimizing possible delays and penalties. During the session\, a spokesperson from U.S. Customs and Border Protection will speak on current priority trade issues and upcoming customs changes. Customs will also address your questions.</div>\n<div>\n	&nbsp\;</div>\n<div>\n	Date\, Times and Location:</div>\n<div>\n	&nbsp\;</div>\n<div>\n	Pacific Customs Brokers - Seminar Room (101-17637 1st Avenue\, Surrey)&nbsp\;</div>\n<div>\n	Wednesday\, October 27\, 2010\; 9am-12pm&nbsp\;</div>\n<div>\n	&nbsp\;</div>\n<div>\n	<strong>Registration Information:</strong></div>\n<div>\n	&nbsp\;</div>\n<div>\n	Seminar Fee: The cost per session is $95 CAD per person. (Breakfast included).</div>\n<div>\n	&nbsp\;</div>\n<div>\n	Register Online: <a href="http://www.pcb.ca/seminars" target="_blank">www.pcb.ca/seminars</a></div>\n<div>\n	&nbsp\;</div>\n<div>\n	Contact Information:</div>\n<div>\n	&nbsp\;</div>\n<div>\n	Yvette Fox at Pacific Customs Brokers\, 604.538.1566\; Fax: 604.531.3120\; <a href="http://mailto:seminars@pcb.ca">seminars@pcb.ca</a></div>\n<div>\n	&nbsp\;</div>\n<div>\n	<strong>Registration Deadline: Friday\, October 22\, 2010</strong></div>\n
LOCATION:Pacific Customs Brokers - Seminar Room (101-17637 1st Avenue\, Surrey)
UID:e.749.1701
SEQUENCE:3
DTSTAMP:20260422T145652Z
URL:https://business.swrbot.com/events/details/u-s-customs-compliance-seminar-10-27-2010-1701
END:VEVENT

END:VCALENDAR
