BEGIN:VCALENDAR
VERSION:2.0
PRODID:-//ChamberMaster//Event Calendar 2.0//EN
METHOD:PUBLISH
X-PUBLISHED-TTL:P3D
REFRESH-INTERVAL:P3D
CALSCALE:GREGORIAN
BEGIN:VEVENT
DTSTART:20140122T014500Z
DTEND:20140122T043000Z
X-MICROSOFT-CDO-ALLDAYEVENT:FALSE
SUMMARY:Update on the new Wills\, Estates and Succession Act
DESCRIPTION:Join Amy Mortimore\, Partner\, Clark Wilson LLP\, for an overview of the new Wills\, Estates and Succession Act which comes into force on March 31\, 2014.  In particular\, Amy will focus on the impact to non-lawyer estate professionals.  Come and learn how this new Act may affect your estate practices.
X-ALT-DESC;FMTTYPE=text/html:Join Amy Mortimore\, Partner\, Clark Wilson LLP\, for an overview of the new Wills\, Estates and Succession Act which comes into force on March 31\, 2014.&nbsp\; In particular\, Amy will focus on the impact to non-lawyer estate professionals.&nbsp\; Come and learn how this new Act may affect your estate practices.
LOCATION:Coyote Creek Golf Course\, 7778 152nd St\, Surrey\, BC V3S 3M4
UID:e.749.2531
SEQUENCE:3
DTSTAMP:20260426T022049Z
URL:https://business.swrbot.com/events/details/update-on-the-new-wills-estates-and-succession-act-01-21-2014-2531
END:VEVENT

END:VCALENDAR
