BEGIN:VCALENDAR
VERSION:2.0
PRODID:-//ChamberMaster//Event Calendar 2.0//EN
METHOD:PUBLISH
X-PUBLISHED-TTL:P3D
REFRESH-INTERVAL:P3D
CALSCALE:GREGORIAN
BEGIN:VEVENT
DTSTART:20140625T170000Z
DTEND:20140625T203000Z
X-MICROSOFT-CDO-ALLDAYEVENT:FALSE
SUMMARY:Valley Women's Luncheon & Gala
DESCRIPTION:Celebrate your Success ...Back to the Future Style! Unravel the mystery with Special Guest Speaker Mesha Toor. Want to increase your visibility? Want to increase your confidence? Want to sometimes "be" the center of attention with quiet attraction? Come\, Walk the red carpet with us!!! Attend for Fun\, Food\, Networking and more....
X-ALT-DESC;FMTTYPE=text/html:Celebrate your Success ...Back to the Future Style! Unravel the mystery with Special Guest Speaker Mesha Toor. Want to increase your visibility? Want to increase your confidence? Want to sometimes &quot\;be&quot\; the center of attention with quiet attraction? Come\, Walk the red carpet with us!!! Attend for Fun\, Food\, Networking and more....
LOCATION:Eaglequest Golf 7778 - 152nd street\, Surrey\, BC
UID:e.749.2660
SEQUENCE:3
DTSTAMP:20260425T201352Z
URL:https://business.swrbot.com/events/details/valley-women-s-luncheon-gala-06-25-2014-2660
END:VEVENT

END:VCALENDAR
