BEGIN:VCALENDAR
VERSION:2.0
PRODID:-//ChamberMaster//Event Calendar 2.0//EN
METHOD:PUBLISH
X-PUBLISHED-TTL:P3D
REFRESH-INTERVAL:P3D
CALSCALE:GREGORIAN
BEGIN:VEVENT
DTSTART:20150422T181500Z
DTEND:20150422T203000Z
X-MICROSOFT-CDO-ALLDAYEVENT:FALSE
SUMMARY:Valley Women's Neetwork Luncheon
DESCRIPTION:Want to boost your business? Come learn new ideas\, network with other business entrepreneurs\, and promote your business at our luncheon.
X-ALT-DESC;FMTTYPE=text/html:Want to boost your business? Come learn new ideas\, network with other business entrepreneurs\, and promote your business at our luncheon.
LOCATION:Eagle Quest Golf Club 152nd street\, Surrey\, BC
UID:e.749.3567
SEQUENCE:3
DTSTAMP:20260423T120659Z
URL:https://business.swrbot.com/events/details/valley-women-s-neetwork-luncheon-04-22-2015-3567
END:VEVENT

END:VCALENDAR
