BEGIN:VCALENDAR
VERSION:2.0
PRODID:-//ChamberMaster//Event Calendar 2.0//EN
METHOD:PUBLISH
X-PUBLISHED-TTL:P3D
REFRESH-INTERVAL:P3D
CALSCALE:GREGORIAN
BEGIN:VEVENT
DTSTART:20150225T193000Z
DTEND:20150225T193000Z
X-MICROSOFT-CDO-ALLDAYEVENT:FALSE
SUMMARY:Valley Women's Network
DESCRIPTION:Come join us for networking and lunch. Share your business ideas\, and let us work together to form partnerships...
X-ALT-DESC;FMTTYPE=text/html:Come join us for networking and lunch. Share your business ideas\, and let us work together to form partnerships...
LOCATION:Eagle Quest Golf Club 7778 - 152nd street\, Surrey
UID:e.749.2865
SEQUENCE:3
DTSTAMP:20260425T111403Z
URL:https://business.swrbot.com/events/details/valley-women-s-network-02-25-2015-2865
END:VEVENT

END:VCALENDAR
