BEGIN:VCALENDAR
VERSION:2.0
PRODID:-//ChamberMaster//Event Calendar 2.0//EN
METHOD:PUBLISH
X-PUBLISHED-TTL:P3D
REFRESH-INTERVAL:P3D
CALSCALE:GREGORIAN
BEGIN:VEVENT
DTSTART:20150325T183000Z
DTEND:20150325T203000Z
X-MICROSOFT-CDO-ALLDAYEVENT:FALSE
SUMMARY:Valley Women's Network
DESCRIPTION:Come join us for business networking and lunch. Share your business ideas and let us work together for success!
X-ALT-DESC;FMTTYPE=text/html:Come join us for business networking and lunch. Share your business ideas and let us work together for success!
LOCATION:Eagle Quest Golf Club 7778 - 152nd street\, Surrey
UID:e.749.2866
SEQUENCE:3
DTSTAMP:20260423T103651Z
URL:https://business.swrbot.com/events/details/valley-women-s-network-03-25-2015-2866
END:VEVENT

END:VCALENDAR
