BEGIN:VCALENDAR
VERSION:2.0
PRODID:-//ChamberMaster//Event Calendar 2.0//EN
METHOD:PUBLISH
X-PUBLISHED-TTL:P3D
REFRESH-INTERVAL:P3D
CALSCALE:GREGORIAN
BEGIN:VEVENT
DTSTART:20140924T181500Z
DTEND:20140924T203000Z
X-MICROSOFT-CDO-ALLDAYEVENT:FALSE
SUMMARY:Valley Women's Network luncheon
DESCRIPTION:Summer was gorgeous! But now it is time to stir up some new business ideas or follow up on your goals before the year ends! Come join us for some camaraderie\, inspiration & business networking at our upcoming luncheon.
X-ALT-DESC;FMTTYPE=text/html:Summer was gorgeous! But now it is time to stir up some new business ideas or follow up on your goals before the year ends! Come join us for some camaraderie\, inspiration &amp\; business networking at our upcoming luncheon.
LOCATION:Eagle Quest Golf Club 7778 152st\, Surrey\, BC
UID:e.749.2767
SEQUENCE:3
DTSTAMP:20260425T163413Z
URL:https://business.swrbot.com/events/details/valley-women-s-network-luncheon-09-24-2014-2767
END:VEVENT

END:VCALENDAR
