BEGIN:VCALENDAR
VERSION:2.0
PRODID:-//ChamberMaster//Event Calendar 2.0//EN
METHOD:PUBLISH
X-PUBLISHED-TTL:P3D
REFRESH-INTERVAL:P3D
CALSCALE:GREGORIAN
BEGIN:VEVENT
DTSTART:20141022T181500Z
DTEND:20141022T203000Z
X-MICROSOFT-CDO-ALLDAYEVENT:FALSE
SUMMARY:Valley Women's Network Luncheon
DESCRIPTION:Come join us for some camaraderie\, inspiration & business networking at our upcoming luncheon. Guest speaker: Margaret Page Mixing\, mingling & Etiquette Manners
X-ALT-DESC;FMTTYPE=text/html:Come join us for some camaraderie\, inspiration &amp\; business networking at our upcoming luncheon. Guest speaker: Margaret Page Mixing\, mingling &amp\; Etiquette Manners
LOCATION:Eagle Quest Golf Club 7778 152nd street\, Surrey\, BC
UID:e.749.2768
SEQUENCE:3
DTSTAMP:20260425T152339Z
URL:https://business.swrbot.com/events/details/valley-women-s-network-luncheon-10-22-2014-2768
END:VEVENT

END:VCALENDAR
