BEGIN:VCALENDAR
VERSION:2.0
PRODID:-//ChamberMaster//Event Calendar 2.0//EN
METHOD:PUBLISH
X-PUBLISHED-TTL:P3D
REFRESH-INTERVAL:P3D
CALSCALE:GREGORIAN
BEGIN:VEVENT
DTSTART:20140122T193000Z
DTEND:20140122T213000Z
X-MICROSOFT-CDO-ALLDAYEVENT:FALSE
SUMMARY:Valley Women's Network Surrey/Delta Business Networking Lunch Meeting
DESCRIPTION:11:30AM to 1:30PM Business Networking with Lunch Prior to Lunch meeting: 10:00 AM to 11:00 AM optional workshop with Karen Pedersen "Wave Goodbye To Workplace Stress" - are You fully ignited for 2014? Workshop included for members of VWN Surrey/Delta \, all welcome to attend with $10 additional to Lunch Meeting fee.
X-ALT-DESC;FMTTYPE=text/html:11:30AM to 1:30PM Business Networking with Lunch Prior to Lunch meeting: 10:00 AM to 11:00 AM optional workshop with Karen Pedersen &quot\;Wave Goodbye To Workplace Stress&quot\; - are You fully ignited for 2014? Workshop included for members of VWN Surrey/Delta \, all welcome to attend with $10 additional to Lunch Meeting fee. 
LOCATION:Eaglequest Golf @ Coyote Creek 7778 152nd Street\, Surrey\, BC
UID:e.749.2551
SEQUENCE:3
DTSTAMP:20260426T022626Z
URL:https://business.swrbot.com/events/details/valley-women-s-network-surrey-delta-business-networking-lunch-meeting-01-22-2014-2551
END:VEVENT

END:VCALENDAR
