BEGIN:VCALENDAR
VERSION:2.0
PRODID:-//ChamberMaster//Event Calendar 2.0//EN
METHOD:PUBLISH
X-PUBLISHED-TTL:P3D
REFRESH-INTERVAL:P3D
CALSCALE:GREGORIAN
BEGIN:VEVENT
DTSTART:20140226T193000Z
DTEND:20140226T213000Z
X-MICROSOFT-CDO-ALLDAYEVENT:FALSE
SUMMARY:Valley Women's Network Surrey/Delta Business Networking Lunch Meeting
DESCRIPTION:11:30AM to 1:30PM Business Networking with Lunch Prior to Lunch meeting: 10:00 AM to 11:00 AM optional workshop with Dale Kathryn Grove on Social Media with focus on FB\, YouTube and Twitter. You will find Dale easily on You Tube! Workshop included for members of VWN Surrey/Delta \, all welcome to attend with $10 additional to Lunch Meeting fee.
X-ALT-DESC;FMTTYPE=text/html:11:30AM to 1:30PM Business Networking with Lunch Prior to Lunch meeting: 10:00 AM to 11:00 AM optional workshop with Dale Kathryn Grove on Social Media with focus on FB\, YouTube and Twitter. You will find Dale easily on You Tube! Workshop included for members of VWN Surrey/Delta \, all welcome to attend with $10 additional to Lunch Meeting fee.
LOCATION:Eaglequest Golf @ Coyote Creek 7778 152nd Street\, Surrey\, BC
UID:e.749.2552
SEQUENCE:3
DTSTAMP:20260426T011309Z
URL:https://business.swrbot.com/events/details/valley-women-s-network-surrey-delta-business-networking-lunch-meeting-02-26-2014-2552
END:VEVENT

END:VCALENDAR
