BEGIN:VCALENDAR
VERSION:2.0
PRODID:-//ChamberMaster//Event Calendar 2.0//EN
METHOD:PUBLISH
X-PUBLISHED-TTL:P3D
REFRESH-INTERVAL:P3D
CALSCALE:GREGORIAN
BEGIN:VEVENT
DTSTART:20140326T183000Z
DTEND:20140326T203000Z
X-MICROSOFT-CDO-ALLDAYEVENT:FALSE
SUMMARY:Valley Women's Network(Surrey Delta) Lunch
DESCRIPTION:Network with business women and guests for lunch with meeting. Arrive by 11:30 AM to network before seated lunch at Noon and make some new friends. Come prepared for networking with business cards and share what you are passionate about in your life or business! Enjoy a wonderful seasonal lunch\, make some new friends while networking during lunch. Come prepared with business cards? Share what you are passionate about in your life or your business! Listen & Learn from each other - inspired women while enjoying your lunch. Valley Women?s Network members can reserve a display table to share information\, sell products and services. Networking through lunch with short 5 minute speakers\, Door prize draws at 1:15PM final announcements and close at 1:30PM sk about our Optional Workshop - starts at 10am.
X-ALT-DESC;FMTTYPE=text/html:Network with business women and guests for lunch with meeting. Arrive by 11:30 AM to network before seated lunch at Noon and make some new friends. Come prepared for networking with business cards and share what you are passionate about in your life or business! Enjoy a wonderful seasonal lunch\, make some new friends while networking during lunch. Come prepared with business cards? Share what you are passionate about in your life or your business! Listen &amp\; Learn from each other - inspired women while enjoying your lunch. Valley Women?s Network members can reserve a display table to share information\, sell products and services. Networking through lunch with short 5 minute speakers\, Door prize draws at 1:15PM final announcements and close at 1:30PM sk about our Optional Workshop - starts at 10am.
LOCATION:Eaglequest Golf @ Coyote Creek 7778 ? 152nd Street\, Surrey\, BC
UID:e.749.2598
SEQUENCE:3
DTSTAMP:20260426T011102Z
URL:https://business.swrbot.com/events/details/valley-women-s-network-surrey-delta-lunch-03-26-2014-2598
END:VEVENT

END:VCALENDAR
