BEGIN:VCALENDAR
VERSION:2.0
PRODID:-//ChamberMaster//Event Calendar 2.0//EN
METHOD:PUBLISH
X-PUBLISHED-TTL:P3D
REFRESH-INTERVAL:P3D
CALSCALE:GREGORIAN
BEGIN:VEVENT
DTSTART:20140423T170000Z
DTEND:20140423T203000Z
X-MICROSOFT-CDO-ALLDAYEVENT:FALSE
SUMMARY:Valley Women's Network - Surrey/Delta Luncheon
DESCRIPTION:Valley Women's Luncheon & Seminar DATE Wednesday April 23rd\, 2014 TIME 10:00 am ? 1:30 pm PDT WHERE Eagle Quest Golf Club - 152nd street\, surrey\, BC TYPE OF EVENT Community Associations CITY Surrey AGE RANGE Adults NOTES Want a boost for your business? come network and promote your business to other business women at our luncheon. Enrol for our workshop on LINKEDIN by Leah RSVP: SurreyDeltaReservations@valleywomensnetwork.com MORE http://www.clubrunner.ca/Portal/SitePages/SitePage.aspx?accountid=60311&pid=6011
X-ALT-DESC;FMTTYPE=text/html:Valley Women&#39\;s Luncheon &amp\; Seminar DATE Wednesday April 23rd\, 2014 TIME 10:00 am ? 1:30 pm PDT WHERE Eagle Quest Golf Club - 152nd street\, surrey\, BC TYPE OF EVENT Community Associations CITY Surrey AGE RANGE Adults NOTES Want a boost for your business? come network and promote your business to other business women at our luncheon. Enrol for our workshop on LINKEDIN by Leah RSVP: SurreyDeltaReservations@valleywomensnetwork.com MORE http://www.clubrunner.ca/Portal/SitePages/SitePage.aspx?accountid=60311&amp\;pid=6011
LOCATION:Eagle Quest Golf Course 152nd street\, Surrey
UID:e.749.2634
SEQUENCE:3
DTSTAMP:20260425T224758Z
URL:https://business.swrbot.com/events/details/valley-women-s-network-surrey-delta-luncheon-04-23-2014-2634
END:VEVENT

END:VCALENDAR
