BEGIN:VCALENDAR
VERSION:2.0
PRODID:-//ChamberMaster//Event Calendar 2.0//EN
METHOD:PUBLISH
X-PUBLISHED-TTL:P3D
REFRESH-INTERVAL:P3D
CALSCALE:GREGORIAN
BEGIN:VEVENT
DTSTART:20131211T180000Z
DTEND:20131211T213000Z
X-MICROSOFT-CDO-ALLDAYEVENT:FALSE
SUMMARY:Valley Women's Networking Surrey-Delta Christmas Trade Expo & Lunch
DESCRIPTION:Be An Angel ~ Be Inspired\n\n	Network Mix and Mingle Trade Expo and Christmas Lunch!\n\n	Enjoy a wonderful seasonal lunch\, make some new friends while networking during lunch.\n\n	Come prepared with business cards \n\n	Share what you are passionate about in your life or your business!\n\n	Listen & Learn from each other - inspired women while enjoying your lunch.\n\n	Short Inspirational Speakers Shares\n\n	Vendor Draws\, Shopping rewards - Prize draws!\n\n	Special Christmas gifts from our chapter!\n\n	\n\n	Accepting donations of Non perishables and unwrapped new toys for Food Bank
X-ALT-DESC;FMTTYPE=text/html:<p class="MsoNormal">\n	<span lang="EN-CA" style="mso-bidi-font-family:Arial">Be An Angel ~ Be Inspired</span></p>\n<p class="MsoNormal">\n	<span lang="EN-CA" style="mso-bidi-font-family:Arial">Network Mix and Mingle Trade Expo and Christmas Lunch!</span></p>\n<p class="MsoNormal">\n	<span lang="EN-CA" style="mso-bidi-font-family:Arial">Enjoy a wonderful seasonal lunch\, make some new friends while networking during lunch.</span></p>\n<p class="MsoNormal">\n	<span lang="EN-CA" style="mso-bidi-font-family:Arial">Come prepared with business cards&hellip\;</span></p>\n<p class="MsoNormal">\n	<span lang="EN-CA" style="mso-bidi-font-family:Arial">Share what you are passionate about in your life or your business!</span></p>\n<p class="MsoNormal">\n	<span lang="EN-CA" style="mso-bidi-font-family:Arial">Listen &amp\; Learn from each other - inspired women while enjoying your lunch.</span></p>\n<p class="MsoNormal">\n	<span lang="EN-CA" style="mso-bidi-font-family:Arial">Short Inspirational Speakers Shares</span></p>\n<p class="MsoNormal">\n	<span lang="EN-CA" style="mso-bidi-font-family:Arial">Vendor Draws\, Shopping rewards - Prize draws!</span></p>\n<p class="MsoNormal">\n	<span lang="EN-CA" style="mso-bidi-font-family:Arial">Special Christmas gifts from our chapter!<br />\n	<br />\n	Accepting donations of Non perishables and unwrapped new toys for Food Bank </span><br />\n	&nbsp\;</p>\n
LOCATION:Eaglequest Golf @ Coyote Creek 7778 ? 152nd Street\, Surrey\, BC
UID:e.749.2487
SEQUENCE:3
DTSTAMP:20260426T034133Z
URL:https://business.swrbot.com/events/details/valley-women-s-networking-surrey-delta-christmas-trade-expo-lunch-12-11-2013-2487
END:VEVENT

END:VCALENDAR
