BEGIN:VCALENDAR
VERSION:2.0
PRODID:-//ChamberMaster//Event Calendar 2.0//EN
METHOD:PUBLISH
X-PUBLISHED-TTL:P3D
REFRESH-INTERVAL:P3D
CALSCALE:GREGORIAN
BEGIN:VEVENT
DTSTART:20141126T191500Z
DTEND:20141126T213000Z
X-MICROSOFT-CDO-ALLDAYEVENT:FALSE
SUMMARY:Valley Womens Network Luncheon
DESCRIPTION:Come join us for some camaraderie\, inspiration & business networking at our upcoming luncheon. Guest Speaker: Nafissa Shireen "Change what you are worth"
X-ALT-DESC;FMTTYPE=text/html:Come join us for some camaraderie\, inspiration &amp\; business networking at our upcoming luncheon. Guest Speaker: Nafissa Shireen &quot\;Change what you are worth&quot\;
LOCATION:Eagle Quest Golf Club 7778 - 152nd street Surrey\, BC
UID:e.749.2769
SEQUENCE:3
DTSTAMP:20260425T140112Z
URL:https://business.swrbot.com/events/details/valley-womens-network-luncheon-11-26-2014-2769
END:VEVENT

END:VCALENDAR
