BEGIN:VCALENDAR
VERSION:2.0
PRODID:-//ChamberMaster//Event Calendar 2.0//EN
METHOD:PUBLISH
X-PUBLISHED-TTL:P3D
REFRESH-INTERVAL:P3D
CALSCALE:GREGORIAN
BEGIN:VEVENT
DTSTART:20140911T000000Z
DTEND:20140925T020000Z
X-MICROSOFT-CDO-ALLDAYEVENT:FALSE
SUMMARY:Vancouver: Take The Money And Run - Free 3-week Business Plan Working Session
DESCRIPTION:Take The Money And Run: The 3 Week Business Plan Join Futurpreneur's expert Entrepreneur-in-Residence and other like-minded young Futurpreneurs to learn how to optimize your business idea\, work through your business plan\, ask questions\, get answers.   There will be 3 x two hour sessions over a 3 week period. Each session will consist of 30 minutes of networking with other entrepreneurs\, strategic planning breakout sessions\, and action plan development for each week.  *This group is limited to 10 people.  *Registration required: sign up here today.  A 3 week business plan working group designed to help entrepreneurs create a killer business plan in record time.  This is for anyone aged 18 - 39 who is dead-serious about getting their start-up business off the ground or taking it to the next level. You are 18 - 39 and have either recently launched or are ready to launch your business within 3 months. You are looking for some money to get started and 2 years of mentorship after you launch. How much is it? FREE. (Yes\, actually.)  How will it work?  There will be 3 x two hour sessions over a 3 week period. Each session will consist of 30 minutes of networking with other entrepreneurs\, strategic planning breakout sessions\, and action plan development for each week. The Futurpreneur BC Team wants you to know: with our start-up financing and professional mentoring support\, starting a new business doesn't need to be as hard as you think. Bring yourself and your dreams & ideas. We'll help with the rest.
X-ALT-DESC;FMTTYPE=text/html:Take The Money And Run: The 3 Week Business Plan Join Futurpreneur&#39\;s expert Entrepreneur-in-Residence and other like-minded young Futurpreneurs to learn how to optimize your business idea\, work through your business plan\, ask questions\, get answers. &nbsp\; There will be 3 x two hour sessions over a 3 week period. Each session will consist of 30 minutes of networking with other entrepreneurs\, strategic planning breakout sessions\, and action plan development for each week.&nbsp\; *This group is limited to 10 people.&nbsp\; *Registration required: sign up here today.&nbsp\; A 3 week business plan working group designed to help entrepreneurs create a killer business plan in record time.&nbsp\; This is for anyone aged 18 - 39 who is dead-serious about getting their start-up business off the ground or taking it to the next level. You are 18 - 39 and have either recently launched or are ready to launch your business within 3 months. You are looking for some money to get started and 2 years of mentorship after you launch. How much is it? FREE. (Yes\, actually.)&nbsp\; How will it work?&nbsp\; There will be 3 x two hour sessions over a 3 week period. Each session will consist of 30 minutes of networking with other entrepreneurs\, strategic planning breakout sessions\, and action plan development for each week. The Futurpreneur BC Team wants you to know: with our start-up financing and professional mentoring support\, starting a new business doesn&#39\;t need to be as hard as you think. Bring yourself and your dreams &amp\; ideas. We&#39\;ll help with the rest.
LOCATION:Futurpreneur BC Office
UID:e.749.2730
SEQUENCE:3
DTSTAMP:20260425T164115Z
URL:https://business.swrbot.com/events/details/vancouver-take-the-money-and-run-free-3-week-business-plan-working-session-09-10-2014-2730
END:VEVENT

END:VCALENDAR
