BEGIN:VCALENDAR
VERSION:2.0
PRODID:-//ChamberMaster//Event Calendar 2.0//EN
METHOD:PUBLISH
X-PUBLISHED-TTL:P3D
REFRESH-INTERVAL:P3D
CALSCALE:GREGORIAN
BEGIN:VEVENT
DTSTART:20190927T003000Z
DTEND:20190927T023000Z
X-MICROSOFT-CDO-ALLDAYEVENT:FALSE
SUMMARY:Volunteering and Beyond
DESCRIPTION:YTS will be hosting its' 6th Annual Volunteering and Beyond. It is a FREE volunteer fair for high school and university students in the Lower Mainland. We host this event at various high schools every year\, and bring numerous organizations under one roof to allow students to interact with representatives to gain more information about the organizations and sign up for volunteer opportunities.
X-ALT-DESC;FMTTYPE=text/html:YTS will be hosting its&#39\; 6th Annual Volunteering and Beyond. It is a FREE volunteer fair for high school and university students in the Lower Mainland. We host this event at various high schools every year\, and bring numerous organizations under one roof to allow students to interact with representatives to gain more information about the organizations and sign up for volunteer opportunities.
LOCATION:Princess Margaret Secondary School 12870 72 Avenue\, Surrey\, BC V3W 2M9
UID:e.749.10642
SEQUENCE:3
DTSTAMP:20260420T140144Z
URL:https://business.swrbot.com/events/details/volunteering-and-beyond-09-26-2019-10642
END:VEVENT

END:VCALENDAR
