BEGIN:VCALENDAR
VERSION:2.0
PRODID:-//ChamberMaster//Event Calendar 2.0//EN
METHOD:PUBLISH
X-PUBLISHED-TTL:P3D
REFRESH-INTERVAL:P3D
CALSCALE:GREGORIAN
BEGIN:VEVENT
DTSTART:20140403T160000Z
DTEND:20140403T170000Z
X-MICROSOFT-CDO-ALLDAYEVENT:FALSE
SUMMARY:Webinar: Basics of Importing into Canada
DESCRIPTION:Pacific Customs Brokers is hosting a webinar on the Basics of Importing into Canada. If you are a novice or require some re-training in your Customs knowledge for shipments crossing internationally\, then this 60 minute online event will be suited to you. Join us for an overview of the parties involved\, H.S. tariff and classification\, eligibility for NAFTA and other free trade agreements. Plus\, we will walk you through the shipment process from the seller to the delivery destination. We will conclude the session by discussing the possible risks of non-compliance with Canada Border Services Agency and other government departments.
X-ALT-DESC;FMTTYPE=text/html:<span lang="EN-CA" style="font-size:11.0pt\;font-family:\n&quot\;Calibri&quot\;\,&quot\;sans-serif&quot\;\;mso-fareast-font-family:&quot\;Times New Roman&quot\;\;mso-bidi-font-family:\n&quot\;Times New Roman&quot\;\;mso-ansi-language:EN-CA\;mso-fareast-language:EN-CA\;\nmso-bidi-language:AR-SA">Pacific Customs Brokers is hosting a webinar on the <i>Basics of Importing into Canada.</i> If you are a novice or require some re-training in your Customs knowledge for shipments crossing internationally\, then this 60 minute online event will be suited to you. Join us for an overview of the parties involved\, H.S. tariff and classification\, eligibility for NAFTA and other free trade agreements. Plus\, we will walk you through the shipment process from the seller to the delivery destination. We will conclude the session by discussing the possible risks of non-compliance with Canada Border Services Agency and other government departments.</span>
LOCATION:Online
UID:e.749.2547
SEQUENCE:3
DTSTAMP:20260425T224052Z
URL:https://business.swrbot.com/events/details/webinar-basics-of-importing-into-canada-04-03-2014-2547
END:VEVENT

END:VCALENDAR
