BEGIN:VCALENDAR
VERSION:2.0
PRODID:-//ChamberMaster//Event Calendar 2.0//EN
METHOD:PUBLISH
X-PUBLISHED-TTL:P3D
REFRESH-INTERVAL:P3D
CALSCALE:GREGORIAN
BEGIN:VEVENT
DTSTART:20140911T170000Z
DTEND:20140911T180000Z
X-MICROSOFT-CDO-ALLDAYEVENT:FALSE
SUMMARY:Webinar: Basics of Importing into Canada
DESCRIPTION:Pacific Customs Brokers is hosting a webinar on the Basics of Importing into Canada. If you are a novice or require some re-training in your Customs knowledge for shipments crossing internationally\, then this 60 minute online event will be suited to you. Join us for an overview of the parties involved\, H.S. tariff and classification\, eligibility for NAFTA and other free trade agreements. Plus\, we will walk you through the shipment process from the seller to the delivery destination. We will conclude the session by discussing the possible risks of non-compliance with Canada Border Services Agency and other government departments.
X-ALT-DESC;FMTTYPE=text/html:Pacific Customs Brokers is hosting a webinar on the Basics of Importing into Canada. If you are a novice or require some re-training in your Customs knowledge for shipments crossing internationally\, then this 60 minute online event will be suited to you. Join us for an overview of the parties involved\, H.S. tariff and classification\, eligibility for NAFTA and other free trade agreements. Plus\, we will walk you through the shipment process from the seller to the delivery destination. We will conclude the session by discussing the possible risks of non-compliance with Canada Border Services Agency and other government departments.
LOCATION:Online
UID:e.749.2722
SEQUENCE:3
DTSTAMP:20260425T163743Z
URL:https://business.swrbot.com/events/details/webinar-basics-of-importing-into-canada-09-11-2014-2722
END:VEVENT

END:VCALENDAR
