BEGIN:VCALENDAR
VERSION:2.0
PRODID:-//ChamberMaster//Event Calendar 2.0//EN
METHOD:PUBLISH
X-PUBLISHED-TTL:P3D
REFRESH-INTERVAL:P3D
CALSCALE:GREGORIAN
BEGIN:VEVENT
DTSTART:20140109T170000Z
DTEND:20140109T180000Z
X-MICROSOFT-CDO-ALLDAYEVENT:FALSE
SUMMARY:Webinar: Basics of Importing into the USA
DESCRIPTION:Pacific Customs Brokers is hosting a webinar on the Basics of Importing into the USA\, Thursday\, January 9\, 2014. If you are a novice or you require some re-training on the physical movement of goods across the border\, then this online event will be suited to you. The topics covered in this 60 minute overview will include parties involved in international trade\, compliance considerations\, completing accurate documentation\, eligibility for NAFTA and other free trade agreements\, and possible consequences of non-compliance. The information provided will give you the tools to navigate your shipment from the seller\, through U.S. Customs and Border Protection and other government agencies\, to the place of delivery.
X-ALT-DESC;FMTTYPE=text/html:<p class="MsoNormal">\n	<span lang="EN-CA" style="font-size:11.0pt\;font-family:&quot\;Calibri&quot\;\,&quot\;sans-serif&quot\;">Pacific Customs Brokers is hosting a webinar on the Basics of Importing into the USA\, Thursday\, January 9\, 2014. If you are a novice or you require some re-training on the physical movement of goods across the border\, then this online event will be suited to you. The topics covered in this 60 minute overview will include parties involved in international trade\, compliance considerations\, completing accurate documentation\, eligibility for NAFTA and other free trade agreements\, and possible consequences of non-compliance. The information provided will give you the tools to navigate your shipment from the seller\, through U.S. Customs and Border Protection and other government agencies\, to the place of delivery.<strong> </strong><strong><o:p></o:p></strong></span></p>\n
LOCATION:Online
UID:e.749.2500
SEQUENCE:3
DTSTAMP:20260426T021759Z
URL:https://business.swrbot.com/events/details/webinar-basics-of-importing-into-the-usa-01-09-2014-2500
END:VEVENT

END:VCALENDAR
