BEGIN:VCALENDAR
VERSION:2.0
PRODID:-//ChamberMaster//Event Calendar 2.0//EN
METHOD:PUBLISH
X-PUBLISHED-TTL:P3D
REFRESH-INTERVAL:P3D
CALSCALE:GREGORIAN
BEGIN:VEVENT
DTSTART:20140417T160000Z
DTEND:20140417T170000Z
X-MICROSOFT-CDO-ALLDAYEVENT:FALSE
SUMMARY:Webinar: Basics of Importing into the USA
DESCRIPTION:Pacific Customs Brokers is hosting a webinar on the Basics of Importing into the USA. If you are a novice or you require some re-training on the physical movement of goods across the border\, then this online event will be suited to you. The topics covered in this 60 minute overview will include parties involved in international trade\, compliance considerations\, completing accurate documentation\, eligibility for NAFTA and other free trade agreements\, and possible consequences of non-compliance. The information provided will give you the tools to navigate your shipment from the seller\, through U.S. Customs and Border Protection and other government agencies\, to the place of delivery.
X-ALT-DESC;FMTTYPE=text/html:<span lang="EN-CA" style="font-size:11.0pt\;font-family:\n&quot\;Calibri&quot\;\,&quot\;sans-serif&quot\;\;mso-fareast-font-family:&quot\;Times New Roman&quot\;\;mso-bidi-font-family:\n&quot\;Times New Roman&quot\;\;mso-ansi-language:EN-CA\;mso-fareast-language:EN-CA\;\nmso-bidi-language:AR-SA">Pacific Customs Brokers is hosting a webinar on the <i>Basics of Importing into the USA.</i> If you are a novice or you require some re-training on the physical movement of goods across the border\, then this online event will be suited to you. The topics covered in this 60 minute overview will include parties involved in international trade\, compliance considerations\, completing accurate documentation\, eligibility for NAFTA and other free trade agreements\, and possible consequences of non-compliance. The information provided will give you the tools to navigate your shipment from the seller\, through U.S. Customs and Border Protection and other government agencies\, to the place of delivery.</span>
LOCATION:Online
UID:e.749.2550
SEQUENCE:3
DTSTAMP:20260425T224204Z
URL:https://business.swrbot.com/events/details/webinar-basics-of-importing-into-the-usa-04-17-2014-2550
END:VEVENT

END:VCALENDAR
