BEGIN:VCALENDAR
VERSION:2.0
PRODID:-//ChamberMaster//Event Calendar 2.0//EN
METHOD:PUBLISH
X-PUBLISHED-TTL:P3D
REFRESH-INTERVAL:P3D
CALSCALE:GREGORIAN
BEGIN:VEVENT
DTSTART:20140313T180000Z
DTEND:20140313T193000Z
X-MICROSOFT-CDO-ALLDAYEVENT:FALSE
SUMMARY:Webinar: CFIA Regulated Goods
DESCRIPTION:Pacific Customs Brokers is hosting a webinar on Canadian Food Inspection Agency (CFIA) and the importation of regulated goods. In this 75 minute session\, you will gain a better understanding of the interaction between CFIA and Canada Border Services Agency (CBSA)\, licensing\, permits and documentation requirements. The knowledge you will acquire will streamline your shipments rather than trigger costly delays. Whether you are a novice or an experienced importer of CFIA regulated goods\, this is a great opportunity to receive cost-effective training or refresh your cross border awareness from the comfort of your desk.
X-ALT-DESC;FMTTYPE=text/html:<span lang="EN-CA" style="font-size:11.0pt\;font-family:\n&quot\;Calibri&quot\;\,&quot\;sans-serif&quot\;\;mso-fareast-font-family:&quot\;Times New Roman&quot\;\;mso-bidi-font-family:\n&quot\;Times New Roman&quot\;\;mso-ansi-language:EN-CA\;mso-fareast-language:EN-CA\;\nmso-bidi-language:AR-SA">Pacific Customs Brokers is hosting a webinar on Canadian Food Inspection Agency (CFIA) and the importation of regulated goods. In this 75 minute session\, you will gain a better understanding of the interaction between CFIA and Canada Border Services Agency (CBSA)\, licensing\, permits and documentation requirements. The knowledge you will acquire will streamline your shipments rather than trigger costly delays. Whether you are a novice or an experienced importer of CFIA regulated goods\, this is a great opportunity to receive cost-effective training or refresh your cross border awareness from the comfort of your desk.</span>
LOCATION:Online
UID:e.749.2546
SEQUENCE:3
DTSTAMP:20260425T235049Z
URL:https://business.swrbot.com/events/details/webinar-cfia-regulated-goods-03-13-2014-2546
END:VEVENT

END:VCALENDAR
