BEGIN:VCALENDAR
VERSION:2.0
PRODID:-//ChamberMaster//Event Calendar 2.0//EN
METHOD:PUBLISH
X-PUBLISHED-TTL:P3D
REFRESH-INTERVAL:P3D
CALSCALE:GREGORIAN
BEGIN:VEVENT
DTSTART:20140508T160000Z
DTEND:20140508T173000Z
X-MICROSOFT-CDO-ALLDAYEVENT:FALSE
SUMMARY:Webinar: FDA Regulated Goods
DESCRIPTION:Pacific Customs Brokers is hosting a webinar on U.S. Food and Drug Administration (FDA) and the importation of regulated goods. In this 75 minute session\, we will review FDA prior notice\, required documentation\, penalties and other pertinent topics. Additionally\, we will provide you with a better understanding of the interaction between FDA and U.S. Customs and Border Protection (CBP). Whether you are a novice or an experienced importer of FDA regulated goods\, this is a great opportunity to receive cost-effective training or refresh your cross border awareness from the comfort of your desk.
X-ALT-DESC;FMTTYPE=text/html:Pacific Customs Brokers is hosting a webinar on U.S. Food and Drug Administration (FDA) and the importation of regulated goods. In this 75 minute session\, we will review FDA prior notice\, required documentation\, penalties and other pertinent topics. Additionally\, we will provide you with a better understanding of the interaction between FDA and U.S. Customs and Border Protection (CBP). Whether you are a novice or an experienced importer of FDA regulated goods\, this is a great opportunity to receive cost-effective training or refresh your cross border awareness from the comfort of your desk.&nbsp\;
LOCATION:Online
UID:e.749.2614
SEQUENCE:3
DTSTAMP:20260425T212820Z
URL:https://business.swrbot.com/events/details/webinar-fda-regulated-goods-05-08-2014-2614
END:VEVENT

END:VCALENDAR
