BEGIN:VCALENDAR
VERSION:2.0
PRODID:-//ChamberMaster//Event Calendar 2.0//EN
METHOD:PUBLISH
X-PUBLISHED-TTL:P3D
REFRESH-INTERVAL:P3D
CALSCALE:GREGORIAN
BEGIN:VEVENT
DTSTART:20161116T180000Z
DTEND:20161116T191500Z
X-MICROSOFT-CDO-ALLDAYEVENT:FALSE
SUMMARY:Webinar: Maximizing Your Return on Inclusion. Onboarding Refugees
DESCRIPTION:Before they were refugees\, they were teachers\, engineers\, and nurses. Canada has given them a chance for a new life\, and they are eager to give back   their resilience\, skills and unique perspectives   and contribute to Canada's economic prosperity. Join us online for an engaging conversation on how to tap into this talent pool and create a diverse\, inclusive\, and productive workforce. Webinar participants will be provided with easy-to-use tools and resources to help them with their onboarding initiatives. This is part one of a webinar series on onboarding refugees hosted by IEC-BC.
X-ALT-DESC;FMTTYPE=text/html:Before they were refugees\, they were teachers\, engineers\, and nurses. Canada has given them a chance for a new life\, and they are eager to give back &ndash\; their resilience\, skills and unique perspectives &ndash\; and contribute to Canada&rsquo\;s economic prosperity. Join us online for an engaging conversation on how to tap into this talent pool and create a diverse\, inclusive\, and productive workforce. Webinar participants will be provided with easy-to-use tools and resources to help them with their onboarding initiatives. This is part one of a webinar series on onboarding refugees hosted by IEC-BC.
LOCATION:
UID:e.749.5140
SEQUENCE:3
DTSTAMP:20260422T082647Z
URL:https://business.swrbot.com/events/details/webinar-maximizing-your-return-on-inclusion-onboarding-refugees-11-16-2016-5140
END:VEVENT

END:VCALENDAR
