BEGIN:VCALENDAR
VERSION:2.0
PRODID:-//ChamberMaster//Event Calendar 2.0//EN
METHOD:PUBLISH
X-PUBLISHED-TTL:P3D
REFRESH-INTERVAL:P3D
CALSCALE:GREGORIAN
BEGIN:VEVENT
DTSTART:20140219T170000Z
DTEND:20140219T181500Z
X-MICROSOFT-CDO-ALLDAYEVENT:FALSE
SUMMARY:Webinar: Part I. NAFTA
DESCRIPTION:Pacific Customs Brokers is hosting a two part webinar series on NAFTA (North American Free Trade Agreement) Wednesday\, February 19\, 2014. Each of the 75 minute sessions will cover crucial information on NAFTA. Avoid a common assumption that all products that are manufactured in Canada\, the United States or Mexico are eligible for duty free status under NAFTA. In this first session\, we will clearly define the roles and responsibilities of the parties in the transaction\, discuss how to make a determination of eligibility using the "rules of origin"\, and understanding basic preference criterias. We will explain the Customs expectations for the use of reasonable care\, and provide you with helpful hints in working through your NAFTA certification.
X-ALT-DESC;FMTTYPE=text/html:<p class="MsoNormal">\n	<span lang="EN-CA" style="font-size:11.0pt\;font-family:&quot\;Calibri&quot\;\,&quot\;sans-serif&quot\;">Pacific Customs Brokers is hosting a two part webinar series on NAFTA (North American Free Trade Agreement) Wednesday\, February 19\, 2014. Each of the 75 minute sessions will cover crucial information on NAFTA. Avoid a common assumption that all products that are manufactured in Canada\, the United States or Mexico are eligible for duty free status under NAFTA. In this first session\, we will clearly define the roles and responsibilities of the parties in the transaction\, discuss how to make a determination of eligibility using the &ldquo\;rules of origin&rdquo\;\, and understanding basic preference criterias. We will explain the Customs expectations for the use of reasonable care\, and provide you with helpful hints in working through your NAFTA certification.<strong><o:p></o:p></strong></span></p>\n
LOCATION:Online
UID:e.749.2533
SEQUENCE:3
DTSTAMP:20260426T010840Z
URL:https://business.swrbot.com/events/details/webinar-part-i-nafta-02-19-2014-2533
END:VEVENT

END:VCALENDAR
