BEGIN:VCALENDAR
VERSION:2.0
PRODID:-//ChamberMaster//Event Calendar 2.0//EN
METHOD:PUBLISH
X-PUBLISHED-TTL:P3D
REFRESH-INTERVAL:P3D
CALSCALE:GREGORIAN
BEGIN:VEVENT
DTSTART:20140227T170000Z
DTEND:20140227T180000Z
X-MICROSOFT-CDO-ALLDAYEVENT:FALSE
SUMMARY:Webinar: Part II. Importing into Canada
DESCRIPTION:Pacific Customs Brokers is hosting part 2 of its webinar series Importing into Canada. This 45 minute session delves further into the topics previously covered in the webinar Basics of Importing into Canada\, part 1. It is recommended you attend part 1 of this series before joining part 2. In this session\, we will cover several international shipping must-knows such as: H.S. tariff and classification\, Canadian and excise tax\, non-resident importer\, methods of valuation\, ACI eManifest requirements and Customs audit preparation and examinations. At the end of the session\, we will allow time for questions and answers.
X-ALT-DESC;FMTTYPE=text/html:Pacific Customs Brokers is hosting part 2 of its webinar series Importing into Canada. This 45 minute session delves further into the topics previously covered in the webinar Basics of Importing into Canada\, part 1. It is recommended you attend part 1 of this series before joining part 2. In this session\, we will cover several international shipping must-knows such as: H.S. tariff and classification\, Canadian and excise tax\, non-resident importer\, methods of valuation\, ACI eManifest requirements and Customs audit preparation and examinations. At the end of the session\, we will allow time for questions and answers.
LOCATION:Online
UID:e.749.2567
SEQUENCE:3
DTSTAMP:20260426T010851Z
URL:https://business.swrbot.com/events/details/webinar-part-ii-importing-into-canada-02-27-2014-2567
END:VEVENT

END:VCALENDAR
