BEGIN:VCALENDAR
VERSION:2.0
PRODID:-//ChamberMaster//Event Calendar 2.0//EN
METHOD:PUBLISH
X-PUBLISHED-TTL:P3D
REFRESH-INTERVAL:P3D
CALSCALE:GREGORIAN
BEGIN:VEVENT
DTSTART:20141106T180000Z
DTEND:20141106T190000Z
X-MICROSOFT-CDO-ALLDAYEVENT:FALSE
SUMMARY:Webinar: Part II. Importing into Canada
DESCRIPTION:Pacific Customs Brokers is hosting part 2 of its webinar series Importing into Canada. This 60 minute session delves further into the topics previously covered in the webinar Basics of Importing into Canada\, part 1. It is recommended you attend part 1 of this series before joining part 2. In this session\, we will cover several international shipping must-knows such as: H.S. tariff and classification\, Canadian and excise tax\, non-resident importer\, methods of valuation\, ACI eManifest requirements and Customs audit preparation and examinations. At the end of the session\, we will allow time for questions and answers.
X-ALT-DESC;FMTTYPE=text/html:Pacific Customs Brokers is hosting part 2 of its webinar series Importing into Canada. This 60 minute session delves further into the topics previously covered in the webinar Basics of Importing into Canada\, part 1. It is recommended you attend part 1 of this series before joining part 2. In this session\, we will cover several international shipping must-knows such as: H.S. tariff and classification\, Canadian and excise tax\, non-resident importer\, methods of valuation\, ACI eManifest requirements and Customs audit preparation and examinations. At the end of the session\, we will allow time for questions and answers.
LOCATION:Online
UID:e.749.2728
SEQUENCE:3
DTSTAMP:20260425T140036Z
URL:https://business.swrbot.com/events/details/webinar-part-ii-importing-into-canada-11-06-2014-2728
END:VEVENT

END:VCALENDAR
