BEGIN:VCALENDAR
VERSION:2.0
PRODID:-//ChamberMaster//Event Calendar 2.0//EN
METHOD:PUBLISH
X-PUBLISHED-TTL:P3D
REFRESH-INTERVAL:P3D
CALSCALE:GREGORIAN
BEGIN:VEVENT
DTSTART:20140123T170000Z
DTEND:20140123T180000Z
X-MICROSOFT-CDO-ALLDAYEVENT:FALSE
SUMMARY:Webinar: Part II. Importing into the USA
DESCRIPTION:Pacific Customs Brokers is hosting part 2 of its webinar series Importing into the USA on Thursday\, January 23\, 2014. This 45 minute session delves further into the topics previously covered in the webinar Basics of Importing into the USA\, part 1. It is recommended you attend part 1 of this series before joining part 2. In this session\, we will cover several international shipping must-knows such as: classification\, duty assessment\, benefits of free trade agreements\, importer security filing and ACE eManifest. We will also expand on compliance\, accurate Customs documentation completion\, and possible risks of non-compliance. At the end of the session\, we will allow time for questions and answers.
X-ALT-DESC;FMTTYPE=text/html:<p class="MsoNormal">\n	<span lang="EN-CA" style="font-size:11.0pt\;font-family:&quot\;Calibri&quot\;\,&quot\;sans-serif&quot\;">Pacific Customs Brokers is hosting part 2 of its webinar series <i>Importing into the USA</i> on Thursday\, January 23\, 2014. This 45 minute session delves further into the topics previously covered in the webinar Basics of Importing into the USA\, part 1. It is recommended you attend part 1 of this series before joining part 2. In this session\, we will cover several international shipping must-knows such as: classification\, duty assessment\, benefits of free trade agreements\, importer security filing and ACE eManifest. We will also expand on compliance\, accurate Customs documentation completion\, and possible risks of non-compliance. At the end of the session\, we will allow time for questions and answers.<strong> </strong><strong><o:p></o:p></strong></span></p>\n
LOCATION:Online
UID:e.749.2510
SEQUENCE:3
DTSTAMP:20260426T021851Z
URL:https://business.swrbot.com/events/details/webinar-part-ii-importing-into-the-usa-01-23-2014-2510
END:VEVENT

END:VCALENDAR
