BEGIN:VCALENDAR
VERSION:2.0
PRODID:-//ChamberMaster//Event Calendar 2.0//EN
METHOD:PUBLISH
X-PUBLISHED-TTL:P3D
REFRESH-INTERVAL:P3D
CALSCALE:GREGORIAN
BEGIN:VEVENT
DTSTART:20140417T180000Z
DTEND:20140417T190000Z
X-MICROSOFT-CDO-ALLDAYEVENT:FALSE
SUMMARY:Webinar: Part II. Importing into the USA
DESCRIPTION:Pacific Customs Brokers is hosting part 2 of its webinar series Importing into the USA. This 45 minute session delves further into the topics previously covered in the webinar Basics of Importing into the USA\, part 1. It is recommended you attend part 1 of this series before joining part 2. In this session\, we will cover several international shipping must-knows such as: classification\, duty assessment\, benefits of free trade agreements\, importer security filing and ACE eManifest. We will also expand on compliance\, accurate Customs documentation completion\, and possible risks of non-compliance. At the end of the session\, we will allow time for questions and answers.
X-ALT-DESC;FMTTYPE=text/html:<span lang="EN-CA" style="font-size:11.0pt\;font-family:\n&quot\;Calibri&quot\;\,&quot\;sans-serif&quot\;\;mso-fareast-font-family:&quot\;Times New Roman&quot\;\;mso-bidi-font-family:\n&quot\;Times New Roman&quot\;\;mso-ansi-language:EN-CA\;mso-fareast-language:EN-CA\;\nmso-bidi-language:AR-SA">Pacific Customs Brokers is hosting part 2 of its webinar series Importing into the USA. This 45 minute session delves further into the topics previously covered in the webinar Basics of Importing into the USA\, part 1. It is recommended you attend part 1 of this series before joining part 2. In this session\, we will cover several international shipping must-knows such as: classification\, duty assessment\, benefits of free trade agreements\, importer security filing and ACE eManifest. We will also expand on compliance\, accurate Customs documentation completion\, and possible risks of non-compliance. At the end of the session\, we will allow time for questions and answers.</span>
LOCATION:Online
UID:e.749.2590
SEQUENCE:3
DTSTAMP:20260425T224119Z
URL:https://business.swrbot.com/events/details/webinar-part-ii-importing-into-the-usa-04-17-2014-2590
END:VEVENT

END:VCALENDAR
