BEGIN:VCALENDAR
VERSION:2.0
PRODID:-//ChamberMaster//Event Calendar 2.0//EN
METHOD:PUBLISH
X-PUBLISHED-TTL:P3D
REFRESH-INTERVAL:P3D
CALSCALE:GREGORIAN
BEGIN:VEVENT
DTSTART:20140219T190000Z
DTEND:20140219T201500Z
X-MICROSOFT-CDO-ALLDAYEVENT:FALSE
SUMMARY:Webinar: Part II. NAFTA
DESCRIPTION:Pacific Customs Brokers is hosting a two part webinar series on NAFTA (North American Free Trade Agreement) Wednesday\, February 19\, 2014. Each of the 75 minute sessions will cover crucial information on NAFTA. In this second session\, we will further examine the "rules of origin" specific to articles that may have components from multiple countries\, expanding on the processes involved in determining regional value content and net cost. We will provide you with the necessary knowledge to determine whether a binding ruling may be appropriate to ensure an accurate certification. Avoid a common assumption that all products that are manufactured in Canada\, the United States or Mexico are eligible for duty free status under NAFTA.
X-ALT-DESC;FMTTYPE=text/html:Pacific Customs Brokers is hosting a two part webinar series on NAFTA (North American Free Trade Agreement) Wednesday\, February 19\, 2014. Each of the 75 minute sessions will cover crucial information on NAFTA. In this second session\, we will further examine the &ldquo\;rules of origin&rdquo\; specific to articles that may have components from multiple countries\, expanding on the processes involved in determining regional value content and net cost. We will provide you with the necessary knowledge to determine whether a binding ruling may be appropriate to ensure an accurate certification. Avoid a common assumption that all products that are manufactured in Canada\, the United States or Mexico are eligible for duty free status under NAFTA.
LOCATION:Online
UID:e.749.2534
SEQUENCE:3
DTSTAMP:20260426T010853Z
URL:https://business.swrbot.com/events/details/webinar-part-ii-nafta-02-19-2014-2534
END:VEVENT

END:VCALENDAR
