BEGIN:VCALENDAR
VERSION:2.0
PRODID:-//ChamberMaster//Event Calendar 2.0//EN
METHOD:PUBLISH
X-PUBLISHED-TTL:P3D
REFRESH-INTERVAL:P3D
CALSCALE:GREGORIAN
BEGIN:VEVENT
DTSTART:20180207T200000Z
DTEND:20180207T210000Z
X-MICROSOFT-CDO-ALLDAYEVENT:FALSE
SUMMARY:Webinar - Solve Crisis with Strategic Communications
DESCRIPTION:Modern Media more mentioning Business Issues faster and wider so more affecting retail/reputation.\n\n\n\nTo see examples of public issues (including those from Surrey) and how to Survive by using Crisis Communications\, participate in a Feb.7 Webinar on https://zoom.us/620907952. \n\n\n\nPlease first Register for Free online at https://canadianmarketingteam.com/communication
X-ALT-DESC;FMTTYPE=text/html:Modern Media more mentioning Business Issues faster and wider so more affecting retail/reputation.<br />\n<br />\nTo see examples of public issues (including those from Surrey) and how to Survive by using Crisis Communications\, participate in a Feb.7 Webinar on https://zoom.us/620907952.&nbsp\;<br />\n<br />\nPlease first Register for Free online at https://canadianmarketingteam.com/communication
LOCATION:Participate in a Feb.7 Webinar on https://zoom.us/620907952. Or consider a Zoom app or check their website for how to just telephone in on the webinar.
UID:e.749.6703
SEQUENCE:3
DTSTAMP:20260421T141236Z
URL:https://business.swrbot.com/events/details/webinar-solve-crisis-with-strategic-communications-02-07-2018-6703
END:VEVENT

END:VCALENDAR
