BEGIN:VCALENDAR
VERSION:2.0
PRODID:-//ChamberMaster//Event Calendar 2.0//EN
METHOD:PUBLISH
X-PUBLISHED-TTL:P3D
REFRESH-INTERVAL:P3D
CALSCALE:GREGORIAN
BEGIN:VEVENT
DTSTART:20171005T010000Z
DTEND:20171005T030000Z
X-MICROSOFT-CDO-ALLDAYEVENT:FALSE
SUMMARY:WEED@WORK: Clearing the Smoke
DESCRIPTION:A lively but relaxed session with local employment lawyers (and SBOT members) Sara Forte and Christie Gilmour from Forte Law (www.fortelaw.ca) in Surrey. Sara and Christie will present an update on the workplace implications of the expected legalization of marijuana\, and answer any burning questions on this trending topic. Registration includes admission\, one drink ticket and appetizers.
X-ALT-DESC;FMTTYPE=text/html:A lively but relaxed session with local employment lawyers (and SBOT members) Sara&nbsp\;Forte and Christie Gilmour from&nbsp\;Forte Law (www.fortelaw.ca) in Surrey. Sara and Christie will&nbsp\;present an update on the workplace implications of the expected legalization of&nbsp\;marijuana\, and answer any burning questions on this trending topic. Registration includes admission\, one drink ticket and appetizers.
LOCATION:Krause Berry Farms - Tasting Bar Room 6179 - 248 St Langley\, BC
UID:e.749.5494
SEQUENCE:3
DTSTAMP:20260421T203543Z
URL:https://business.swrbot.com/events/details/weed-work-clearing-the-smoke-10-04-2017-5494
END:VEVENT

END:VCALENDAR
