BEGIN:VCALENDAR
VERSION:2.0
PRODID:-//ChamberMaster//Event Calendar 2.0//EN
METHOD:PUBLISH
X-PUBLISHED-TTL:P3D
REFRESH-INTERVAL:P3D
CALSCALE:GREGORIAN
BEGIN:VEVENT
DTSTART:20101016T000000Z
DTEND:20101017T210000Z
X-MICROSOFT-CDO-ALLDAYEVENT:FALSE
SUMMARY:Westcoast Women's Weekend 2010
DESCRIPTION:Presented by Alexandra Neighbourhood House \n\nRevive ~ Refresh ~ Renew \n\nA full weekend of workshops\, presentations and networking opportunities
X-ALT-DESC;FMTTYPE=text/html:<div>Presented by Alexandra Neighbourhood House <br /><br /><strong>Revive ~ Refresh ~ Renew</strong> <br /><br />A full weekend of workshops\, presentations and networking opportunities <br />&nbsp\;</div>
LOCATION:Camp Alexandra2916 McBride Ave\, Surrey (Crescent Beach)
UID:e.749.1664
SEQUENCE:3
DTSTAMP:20260422T145952Z
URL:https://business.swrbot.com/events/details/westcoast-women-s-weekend-2010-10-15-2010-1664
END:VEVENT

END:VCALENDAR
