BEGIN:VCALENDAR
VERSION:2.0
PRODID:-//ChamberMaster//Event Calendar 2.0//EN
METHOD:PUBLISH
X-PUBLISHED-TTL:P3D
REFRESH-INTERVAL:P3D
CALSCALE:GREGORIAN
BEGIN:VEVENT
DTSTART:20140918T203000Z
DTEND:20140918T213000Z
X-MICROSOFT-CDO-ALLDAYEVENT:FALSE
SUMMARY:What Everybody Ought to Know About Factoring
DESCRIPTION:Learn how Liquid Capital Pacific often funds clients the banks turn away. Bring your clients\, pass this on to business owners who are still looking for capital or attend on your own and learn more about the benefits of accounts receivable factoring.
X-ALT-DESC;FMTTYPE=text/html:Learn how Liquid Capital Pacific often funds clients the banks turn away. Bring your clients\, pass this on to business owners who are still looking for capital or attend on your own and learn more about the benefits of accounts receivable factoring.
LOCATION:Surrey Board of Trade Boardroom #101 - 14439 - 104 Ave. Surrey BC
UID:e.749.2724
SEQUENCE:3
DTSTAMP:20260425T163420Z
URL:https://business.swrbot.com/events/details/what-everybody-ought-to-know-about-factoring-09-18-2014-2724
END:VEVENT

END:VCALENDAR
