BEGIN:VCALENDAR
VERSION:2.0
PRODID:-//ChamberMaster//Event Calendar 2.0//EN
METHOD:PUBLISH
X-PUBLISHED-TTL:P3D
REFRESH-INTERVAL:P3D
CALSCALE:GREGORIAN
BEGIN:VEVENT
DTSTART:20140529T183000Z
DTEND:20140531T210000Z
X-MICROSOFT-CDO-ALLDAYEVENT:FALSE
SUMMARY:What you must know BEFORE you do your website
DESCRIPTION:Attention Fellow SBOT members - who know of anyone planning a website.\n\n\n\nNot all websites are properly built for search engines\, traffic\, or conversion-to-action. \n\n\n\nWhy this seminar?  I want to save you money and time if you are planning a website.\n\nI've talked to so many who paid to get a website done\, then have to pay extra later because some things were not done at the beginning in planning stages.They also assumed web designers know what is good for search engines - MOST DO NOT.  Most do what you ask them to do\, not what works best.  The website consumer needs to know what to ask a web designer\, what to request\, what to plan for\, how to choose the best options for a website that gets results\, or even DIY tips.\n\n\n\nDo youself a big favor\, and come learn what you MUST know BEFORE planning and building your small business website\, or paying someone to do it - if you want the site to be discovered online and getting you leads.  This could reduce your future SEO bills\, and increase your traffic/leads.\n\n\n\nPlease see the details and register for the date that suits you best.  http://bit.ly/may23-24\n\nFast action takers will get in free - just choose the free option\, and tell someone else about it (tweet it\, like it\, etc.). \n\n\n\nSuccess to you.
X-ALT-DESC;FMTTYPE=text/html:<span style="color:#006400\;"><strong>Attention Fellow SBOT members - who know of anyone planning a website.</strong></span><br />\n<br />\n<span style="color:#000000\;"><strong><span style="background-color:#FFFF00\;">Not all websites are properly built for search engines\, traffic\, or conversion-to-action. </span></strong></span><br />\n<br />\n<strong><u>Why this seminar?</u></strong>&nbsp\;<span style="color:#800000\;"><strong> I want to save you money and time if you are planning a website.</strong></span><br />\nI&#39\;ve talked to so many who paid to get a website done\, then have to pay extra later because some things were not done at the beginning in planning stages.They also assumed web designers know what is good for search engines - MOST DO NOT.&nbsp\; Most do what you ask them to do\, not what works best.&nbsp\; The website consumer needs to know what to ask a web designer\, what to request\, what to plan for\, how to choose the best options for a website that gets results\, or even DIY tips.<br />\n<br />\nDo youself a big favor\, and come learn what you MUST know BEFORE planning and building your small business website\, or paying someone to do it - if you want the site to be discovered online and getting you leads.&nbsp\; This could <strong><em>reduce your future SEO bills</em></strong>\, and <em><strong>increase your traffic/leads</strong></em>.<br />\n<br />\nPlease see the details and register for the date that suits you best.&nbsp\; http://bit.ly/may23-24<br />\nFast action takers will get in free - just choose the free option\, and tell someone else about it (tweet it\, like it\, etc.).&nbsp\;<br />\n<br />\nSuccess to you.<br />\n&nbsp\;
LOCATION:Surrey Central Library - find room with "Web Workshop" sign in 2nd floor breakout room.
UID:e.749.2653
SEQUENCE:3
DTSTAMP:20260425T213029Z
URL:https://business.swrbot.com/events/details/what-you-must-know-before-you-do-your-website-05-29-2014-2653
END:VEVENT

END:VCALENDAR
