BEGIN:VCALENDAR
VERSION:2.0
PRODID:-//ChamberMaster//Event Calendar 2.0//EN
METHOD:PUBLISH
X-PUBLISHED-TTL:P3D
REFRESH-INTERVAL:P3D
CALSCALE:GREGORIAN
BEGIN:VEVENT
DTSTART:20200303T170000Z
DTEND:20200303T183000Z
X-MICROSOFT-CDO-ALLDAYEVENT:FALSE
SUMMARY:White Rock Business Forum
DESCRIPTION:Come to discuss issues and opportunities for White Rock to continue to grow as a city where businesses prosper. Co-hosted by the SSWR Chamber\, City of White Rock and White Rock BIA. More details to follow.
X-ALT-DESC;FMTTYPE=text/html:Come to discuss issues and opportunities for White Rock to continue to grow as a city where businesses prosper. Co-hosted by the SSWR Chamber\, City of White Rock and White Rock BIA. More details to follow.
LOCATION:White Rock Community Centre 15154 Russell Ave White Rock
UID:e.749.14003
SEQUENCE:3
DTSTAMP:20260420T052633Z
URL:https://business.swrbot.com/events/details/white-rock-business-forum-03-03-2020-14003
END:VEVENT

END:VCALENDAR
