BEGIN:VCALENDAR
VERSION:2.0
PRODID:-//ChamberMaster//Event Calendar 2.0//EN
METHOD:PUBLISH
X-PUBLISHED-TTL:P3D
REFRESH-INTERVAL:P3D
CALSCALE:GREGORIAN
BEGIN:VEVENT
DTSTART:20141121T220000Z
DTEND:20141122T000000Z
X-MICROSOFT-CDO-ALLDAYEVENT:FALSE
SUMMARY:Wine & Cheese
DESCRIPTION:Wine & Cheese Live musician Ron Boudreau puts on a show\n\n"Crooners & Kings" - enjoy his smooth moves and classy voice. Sample the current wine trends of the upcoming holiday season. Great music\, great friends.
X-ALT-DESC;FMTTYPE=text/html:Wine &amp\; Cheese Live musician Ron Boudreau puts on a show<br />\n&quot\;Crooners &amp\; Kings&quot\; - enjoy his smooth moves and classy voice. Sample the current wine trends of the upcoming holiday season. Great music\, great friends.
LOCATION:Chartwell Imperial Place Retirement Residence 13853 - 102 Avenue Surrey
UID:e.749.2825
SEQUENCE:3
DTSTAMP:20260425T140049Z
URL:https://business.swrbot.com/events/details/wine-cheese-11-21-2014-2825
END:VEVENT

END:VCALENDAR
