BEGIN:VCALENDAR
VERSION:2.0
PRODID:-//ChamberMaster//Event Calendar 2.0//EN
METHOD:PUBLISH
X-PUBLISHED-TTL:P3D
REFRESH-INTERVAL:P3D
CALSCALE:GREGORIAN
BEGIN:VEVENT
DTSTART;VALUE=DATE:20161214
DTEND;VALUE=DATE:20161215
TRANSP:TRANSPARENT
X-MICROSOFT-CDO-ALLDAYEVENT:TRUE
SUMMARY:Wine & Cheese Event Featuring Medical Services Bldg Across from Surrey Memorial Hospital
DESCRIPTION:Holiday Wine and Cheese Event\n\nFeaturing \n\n\n\nInnovation Village "A Community of Care"\n\nOne of the Most Sought After Locations in Surrey City Center\n\n\n\nLearn about the investment opportunities in an integrated lifestyle development\, combining state-of-the-art all level senior care and a medical services building in a beautiful natural urban forest setting adjacent to Surrey Memorial Hospital.\n\n\n\nJoin us for a Wine & Cheese Event\n\nInvestment opportunities for a new Care Model that allows seniors to age together!\n\nThis project RRSP & TFSA Funds Qualifiable
X-ALT-DESC;FMTTYPE=text/html:Holiday Wine and Cheese Event<br />\nFeaturing&nbsp\;\n<div>\n<div style="background:transparent\; border:0px\; padding:0px\; text-align:center">\n<div style="background:transparent\; border:0px\; padding:0px">\n<h2>Innovation Village &quot\;A Community of Care&quot\;</h2>\n\n<h4>One of the Most Sought After Locations in Surrey City Center</h4>\n</div>\n\n<div style="background:transparent\; border:0px\; padding:0px">\n<p>Learn about the investment opportunities in&nbsp\;an integrated lifestyle development\, combining state-of-the-art all level senior care and a medical services building in a&nbsp\;beautiful&nbsp\;natural&nbsp\;urban forest setting adjacent to Surrey&nbsp\;Memorial Hospital.<br />\n<br />\nJoin us for a Wine &amp\; Cheese Event</p>\n\n<p>Investment opportunities for a new Care Model that allows seniors to age together!</p>\n\n<p>This project RRSP &amp\; TFSA Funds Qualifiable</p>\n\n<p>&nbsp\;</p>\n\n<div>&nbsp\;</div>\n\n<p>&nbsp\;</p>\n</div>\n</div>\n</div>\n
LOCATION:Evolve Sales Center 13328 - 104 Avenue\, Surrey\, BC Parking in the front and back of building.
UID:e.749.5182
SEQUENCE:3
DTSTAMP:20260422T071428Z
URL:https://business.swrbot.com/events/details/wine-cheese-event-featuring-medical-services-bldg-across-from-surrey-memorial-hospital-12-14-2016-5182
END:VEVENT

END:VCALENDAR
