BEGIN:VCALENDAR
VERSION:2.0
PRODID:-//ChamberMaster//Event Calendar 2.0//EN
METHOD:PUBLISH
X-PUBLISHED-TTL:P3D
REFRESH-INTERVAL:P3D
CALSCALE:GREGORIAN
BEGIN:VEVENT
DTSTART:20171124T190000Z
DTEND:20171124T230000Z
X-MICROSOFT-CDO-ALLDAYEVENT:FALSE
SUMMARY:Winter Craft Fair
DESCRIPTION:Winter Craft Fair Lots of vendors No charge to attend Lots of parking Barbecue Fun for the whole family
X-ALT-DESC;FMTTYPE=text/html:Winter Craft Fair Lots of vendors No charge to attend Lots of parking Barbecue Fun for the whole family
LOCATION:Laurel Place Across from Surrey Memorial Hospital 9688 - 137A Ave\, Surrey BC 604-582-6336
UID:e.749.5495
SEQUENCE:3
DTSTAMP:20260421T180419Z
URL:https://business.swrbot.com/events/details/winter-craft-fair-11-24-2017-5495
END:VEVENT

END:VCALENDAR
