BEGIN:VCALENDAR
VERSION:2.0
PRODID:-//ChamberMaster//Event Calendar 2.0//EN
METHOD:PUBLISH
X-PUBLISHED-TTL:P3D
REFRESH-INTERVAL:P3D
CALSCALE:GREGORIAN
BEGIN:VEVENT
DTSTART:20160610T010000Z
DTEND:20160610T020000Z
X-MICROSOFT-CDO-ALLDAYEVENT:FALSE
SUMMARY:Women and Money Seminar
DESCRIPTION:Ladies\, it's time to talk about money. Your money. You're smart\, savvy and successful. You've built the life you deserve and plan to enjoy it. But have you considered how realities like a longer life expectancy and time away from the workforce can impact your plans? Join us and learn more about: 1) the true financial impacts of caring for children or aging parents 2) how to survive separation and divorce 3) securing lifelong independence Come discover how The Plan by Investors Group can protect you\, your wealth and the ones you love.
X-ALT-DESC;FMTTYPE=text/html:Ladies\, it&rsquo\;s time to talk about money. Your money. You&rsquo\;re smart\, savvy and successful. You&rsquo\;ve built the life you deserve and plan to enjoy it. But have you considered how realities like a longer life expectancy and time away from the workforce can impact your plans? Join us and learn more about: 1) the true financial impacts of caring for children or aging parents 2) how to survive separation and divorce 3) securing lifelong independence Come discover how The Plan by Investors Group can protect you\, your wealth and the ones you love.
LOCATION:#120 2121 152 Street\, Surrey\, B.C. V4A 4P1
UID:e.749.4950
SEQUENCE:3
DTSTAMP:20260424T095501Z
URL:https://business.swrbot.com/events/details/women-and-money-seminar-06-09-2016-4950
END:VEVENT

END:VCALENDAR
