BEGIN:VCALENDAR
VERSION:2.0
PRODID:-//ChamberMaster//Event Calendar 2.0//EN
METHOD:PUBLISH
X-PUBLISHED-TTL:P3D
REFRESH-INTERVAL:P3D
CALSCALE:GREGORIAN
BEGIN:VEVENT
DTSTART:20151105T170000Z
DTEND:20151105T231500Z
X-MICROSOFT-CDO-ALLDAYEVENT:FALSE
SUMMARY:Workshop: H.S. Tariff Classification
DESCRIPTION:Translating the H.S. Schedule to Avoid Non-Compliance\n\nTariff classification is the most crucial aspect of global trade. It is the cornerstone of compliant importation of commercial goods and the most common area of non-compliance. Avoid costly penalties and delays by attending this interactive course designed to provide hands-on experience with correct classification of goods and parts\, understanding of the complexities of the general rules of interpretation\, how duties are determined and how special programs can assist in lowering duty rates.\n\n\n\nTopics Include\n\n\n	\n		\n			\n			\n				Harmonized commodity description\n				Coding system\n				History and development\n				Structure and legal text\n				General rules of interpretation\n				Classification aids\n				Binding rulings\n			\n			\n			\n			\n				Duty rates\n				Countervailing duty\n				Anti-dumping duty\n				Informed compliance\n				Shared responsibility\n				Harmonized System Book
X-ALT-DESC;FMTTYPE=text/html:<h4><em>Translating the H.S. Schedule to Avoid Non-Compliance</em></h4>\n\n<p style="text-align:justify">Tariff classification is the most crucial aspect of global trade. It is the cornerstone of compliant importation of commercial goods and the most common area of non-compliance. Avoid costly penalties and delays by attending this interactive course designed to provide hands-on experience with correct classification of goods and parts\, understanding of the complexities of the general rules of interpretation\, how duties are determined and how special programs can assist in lowering duty rates.</p>\n\n<h3><br />\nTopics Include</h3>\n\n<table style="height:85px\; width:535px">\n	<tbody>\n		<tr>\n			<td>\n			<ul>\n				<li>Harmonized commodity description</li>\n				<li>Coding system</li>\n				<li>History and development</li>\n				<li>Structure and legal text</li>\n				<li>General rules of interpretation</li>\n				<li>Classification aids</li>\n				<li>Binding rulings</li>\n			</ul>\n			</td>\n			<td>\n			<ul>\n				<li>Duty rates</li>\n				<li>Countervailing duty</li>\n				<li>Anti-dumping duty</li>\n				<li>Informed compliance</li>\n				<li>Shared responsibility</li>\n				<li>Harmonized System Book</li>\n			</ul>\n			</td>\n		</tr>\n	</tbody>\n</table>\n
LOCATION:Pacific Customs Brokers\, 17637 1st Avenue\, Surrey\, BC
UID:e.749.3696
SEQUENCE:3
DTSTAMP:20260423T225305Z
URL:https://business.swrbot.com/events/details/workshop-h-s-tariff-classification-11-05-2015-3696
END:VEVENT

END:VCALENDAR
