BEGIN:VCALENDAR
VERSION:2.0
PRODID:-//ChamberMaster//Event Calendar 2.0//EN
METHOD:PUBLISH
X-PUBLISHED-TTL:P3D
REFRESH-INTERVAL:P3D
CALSCALE:GREGORIAN
BEGIN:VEVENT
DTSTART:20151112T170000Z
DTEND:20151112T220000Z
X-MICROSOFT-CDO-ALLDAYEVENT:FALSE
SUMMARY:Workshop: NAFTA
DESCRIPTION:'Made in Canada' or 'Made in USA'   Duty Free\n\nAvoid that common misconception by attending this interactive course on the North American Free Trade Agreement (NAFTA). It is a voluntary program that can often lower or eliminate duty rates on goods and parts\; however\, the consequences for incorrectly completing a certificate of origin (COO) can be steep. In this full-day workshop we will provide you with a comprehensive field-by-field guide to completing a NAFTA certificate. We will assist you in understanding product eligibility\, rules of origin\, common errors and the importer's responsibilities under the program to maximize savings.\n\n\n\nTopics Include\n\n\n	\n		\n			\n			\n				History of NAFTA\n				Rules of origin\n				Non-resident importing\n				Eligibility options\n				Regional value content\n			\n			\n			\n			\n				Country of origin\n				Marking determination requirements\n				Post-entry claims / amendments\n				Audit verifications\n				Case studies
X-ALT-DESC;FMTTYPE=text/html:<h4><em>&#39\;Made in Canada&#39\; or &#39\;Made in USA&#39\; &ne\; Duty Free</em></h4>\n\n<p style="text-align:justify">Avoid that common misconception by attending this interactive course on the North American Free Trade Agreement (NAFTA). It is a voluntary program that can often lower or eliminate duty rates on goods and parts\; however\, the consequences for incorrectly completing a certificate of origin (COO) can be steep. In this full-day workshop we will provide you with a comprehensive field-by-field guide to completing a NAFTA certificate. We will assist you in understanding product eligibility\, rules of origin\, common errors and the importer&#39\;s responsibilities under the program to maximize savings.</p>\n\n<h3><br />\nTopics Include</h3>\n\n<table style="height:85px\; width:535px">\n	<tbody>\n		<tr>\n			<td>\n			<ul>\n				<li>History of NAFTA</li>\n				<li>Rules of origin</li>\n				<li>Non-resident importing</li>\n				<li>Eligibility options</li>\n				<li>Regional value content</li>\n			</ul>\n			</td>\n			<td>\n			<ul>\n				<li>Country of origin</li>\n				<li>Marking determination requirements</li>\n				<li>Post-entry claims / amendments</li>\n				<li>Audit verifications</li>\n				<li>Case studies</li>\n			</ul>\n			</td>\n		</tr>\n	</tbody>\n</table>\n
LOCATION:Pacific Customs Brokers\, 17637 1st Avenue\, Surrey\, BC
UID:e.749.3697
SEQUENCE:3
DTSTAMP:20260423T225415Z
URL:https://business.swrbot.com/events/details/workshop-nafta-11-12-2015-3697
END:VEVENT

END:VCALENDAR
